Back to Build/check report for BioC 3.14 experimental data
ABCDEFG[H]IJKLMNOPQRSTUVWXYZ

This page was generated on 2021-10-23 15:51:46 -0400 (Sat, 23 Oct 2021).

All results for package hgu133plus2CellScore

To the developers/maintainers of the hgu133plus2CellScore package:
Make sure to use the following settings in order to reproduce any error or warning you see on this page.

raw results

Package 173/408HostnameOS / ArchINSTALLBUILDCHECK
hgu133plus2CellScore 1.13.0  (landing page)
Nancy Mah
Snapshot Date: 2021-10-23 09:30:01 -0400 (Sat, 23 Oct 2021)
git_url: https://git.bioconductor.org/packages/hgu133plus2CellScore
git_branch: master
git_last_commit: 3d0c2ca
git_last_commit_date: 2021-05-19 12:04:02 -0400 (Wed, 19 May 2021)
nebbiolo2Linux (Ubuntu 20.04.2 LTS) / x86_64  OK    OK    WARNINGS  UNNEEDED, same version is already published