Back to Build/check report for BioC 3.14 experimental data
ABCDEFG[H]IJKLMNOPQRSTUVWXYZ

This page was generated on 2021-10-23 15:51:47 -0400 (Sat, 23 Oct 2021).

BUILD results for harbChIP on nebbiolo2

To the developers/maintainers of the harbChIP package:
Make sure to use the following settings in order to reproduce any error or warning you see on this page.

raw results

Package 162/408HostnameOS / ArchINSTALLBUILDCHECK
harbChIP 1.31.0  (landing page)
VJ Carey
Snapshot Date: 2021-10-23 09:30:01 -0400 (Sat, 23 Oct 2021)
git_url: https://git.bioconductor.org/packages/harbChIP
git_branch: master
git_last_commit: a6e46a3
git_last_commit_date: 2021-05-19 11:25:08 -0400 (Wed, 19 May 2021)
nebbiolo2Linux (Ubuntu 20.04.2 LTS) / x86_64  OK    OK    OK  UNNEEDED, same version is already published

Summary

Package: harbChIP
Version: 1.31.0
Command: /home/biocbuild/bbs-3.14-bioc/R/bin/R CMD build --keep-empty-dirs --no-resave-data harbChIP
StartedAt: 2021-10-23 11:23:05 -0400 (Sat, 23 Oct 2021)
EndedAt: 2021-10-23 11:23:23 -0400 (Sat, 23 Oct 2021)
EllapsedTime: 18.1 seconds
RetCode: 0
Status:   OK  
PackageFile: harbChIP_1.31.0.tar.gz
PackageFileSize: 7.133 MiB

Command output

##############################################################################
##############################################################################
###
### Running command:
###
###   /home/biocbuild/bbs-3.14-bioc/R/bin/R CMD build --keep-empty-dirs --no-resave-data harbChIP
###
##############################################################################
##############################################################################


* checking for file ‘harbChIP/DESCRIPTION’ ... OK
* preparing ‘harbChIP’:
* checking DESCRIPTION meta-information ... OK
* installing the package to build vignettes
* creating vignettes ... OK
* checking for LF line-endings in source and make files and shell scripts
* checking for empty or unneeded directories
* looking to see if a ‘data/datalist’ file should be added
* building ‘harbChIP_1.31.0.tar.gz’