Back to Build/check report for BioC 3.14 experimental data
ABCDEFG[H]IJKLMNOPQRSTUVWXYZ

This page was generated on 2021-10-23 15:51:47 -0400 (Sat, 23 Oct 2021).

BUILD results for hapmap500ksty on nebbiolo2

To the developers/maintainers of the hapmap500ksty package:
Make sure to use the following settings in order to reproduce any error or warning you see on this page.

raw results

Package 159/408HostnameOS / ArchINSTALLBUILDCHECK
hapmap500ksty 1.35.0  (landing page)
Benilton Carvalho
Snapshot Date: 2021-10-23 09:30:01 -0400 (Sat, 23 Oct 2021)
git_url: https://git.bioconductor.org/packages/hapmap500ksty
git_branch: master
git_last_commit: 75cb09b
git_last_commit_date: 2021-05-19 11:27:08 -0400 (Wed, 19 May 2021)
nebbiolo2Linux (Ubuntu 20.04.2 LTS) / x86_64  OK    OK    OK  UNNEEDED, same version is already published

Summary

Package: hapmap500ksty
Version: 1.35.0
Command: /home/biocbuild/bbs-3.14-bioc/R/bin/R CMD build --keep-empty-dirs --no-resave-data hapmap500ksty
StartedAt: 2021-10-23 11:22:31 -0400 (Sat, 23 Oct 2021)
EndedAt: 2021-10-23 11:24:34 -0400 (Sat, 23 Oct 2021)
EllapsedTime: 123.1 seconds
RetCode: 0
Status:   OK  
PackageFile: hapmap500ksty_1.35.0.tar.gz
PackageFileSize: 77.63 MiB

Command output

##############################################################################
##############################################################################
###
### Running command:
###
###   /home/biocbuild/bbs-3.14-bioc/R/bin/R CMD build --keep-empty-dirs --no-resave-data hapmap500ksty
###
##############################################################################
##############################################################################


* checking for file ‘hapmap500ksty/DESCRIPTION’ ... OK
* preparing ‘hapmap500ksty’:
* checking DESCRIPTION meta-information ... OK
* checking for LF line-endings in source and make files and shell scripts
* checking for empty or unneeded directories
* building ‘hapmap500ksty_1.35.0.tar.gz’