Back to Build/check report for BioC 3.14 experimental data
ABCDEFG[H]IJKLMNOPQRSTUVWXYZ

This page was generated on 2021-10-16 15:51:46 -0400 (Sat, 16 Oct 2021).

BUILD results for hapmap500knsp on nebbiolo2

To the developers/maintainers of the hapmap500knsp package:
Make sure to use the following settings in order to reproduce any error or warning you see on this page.

raw results

Package 157/404HostnameOS / ArchINSTALLBUILDCHECK
hapmap500knsp 1.35.0  (landing page)
Benilton Carvalho
Snapshot Date: 2021-10-16 09:30:02 -0400 (Sat, 16 Oct 2021)
git_url: https://git.bioconductor.org/packages/hapmap500knsp
git_branch: master
git_last_commit: 533422c
git_last_commit_date: 2021-05-19 11:26:59 -0400 (Wed, 19 May 2021)
nebbiolo2Linux (Ubuntu 20.04.2 LTS) / x86_64  OK    OK    OK  UNNEEDED, same version is already published

Summary

Package: hapmap500knsp
Version: 1.35.0
Command: /home/biocbuild/bbs-3.14-bioc/R/bin/R CMD build --keep-empty-dirs --no-resave-data hapmap500knsp
StartedAt: 2021-10-16 11:21:22 -0400 (Sat, 16 Oct 2021)
EndedAt: 2021-10-16 11:23:26 -0400 (Sat, 16 Oct 2021)
EllapsedTime: 123.9 seconds
RetCode: 0
Status:   OK  
PackageFile: hapmap500knsp_1.35.0.tar.gz
PackageFileSize: 80.39 MiB

Command output

##############################################################################
##############################################################################
###
### Running command:
###
###   /home/biocbuild/bbs-3.14-bioc/R/bin/R CMD build --keep-empty-dirs --no-resave-data hapmap500knsp
###
##############################################################################
##############################################################################


* checking for file ‘hapmap500knsp/DESCRIPTION’ ... OK
* preparing ‘hapmap500knsp’:
* checking DESCRIPTION meta-information ... OK
* checking for LF line-endings in source and make files and shell scripts
* checking for empty or unneeded directories
* building ‘hapmap500knsp_1.35.0.tar.gz’