Back to Build/check report for BioC 3.14 experimental data
ABCDEFG[H]IJKLMNOPQRSTUVWXYZ

This page was generated on 2021-12-01 18:35:25 -0500 (Wed, 01 Dec 2021).

INSTALL results for hapmap100kxba on nebbiolo2

To the developers/maintainers of the hapmap100kxba package:
Make sure to use the following settings in order to reproduce any error or warning you see on this page.

raw results

Package 157/408HostnameOS / ArchINSTALLBUILDCHECK
hapmap100kxba 1.36.0  (landing page)
Benilton Carvalho
Snapshot Date: 2021-12-01 08:30:01 -0500 (Wed, 01 Dec 2021)
git_url: https://git.bioconductor.org/packages/hapmap100kxba
git_branch: RELEASE_3_14
git_last_commit: 262c140
git_last_commit_date: 2021-10-26 11:41:25 -0500 (Tue, 26 Oct 2021)
nebbiolo2Linux (Ubuntu 20.04.3 LTS) / x86_64  OK    OK    OK  UNNEEDED, same version is already published

Summary

Package: hapmap100kxba
Version: 1.36.0
Command: /home/biocbuild/bbs-3.14-bioc/R/bin/R CMD INSTALL hapmap100kxba
StartedAt: 2021-12-01 14:00:22 -0500 (Wed, 01 Dec 2021)
EndedAt: 2021-12-01 14:00:24 -0500 (Wed, 01 Dec 2021)
EllapsedTime: 2.4 seconds
RetCode: 0
Status:   OK  

Command output

##############################################################################
##############################################################################
###
### Running command:
###
###   /home/biocbuild/bbs-3.14-bioc/R/bin/R CMD INSTALL hapmap100kxba
###
##############################################################################
##############################################################################


* installing to library ‘/home/biocbuild/bbs-3.14-bioc/R/library’
* installing *source* package ‘hapmap100kxba’ ...
** using staged installation
** R
** inst
** byte-compile and prepare package for lazy loading
** help
*** installing help indices
** building package indices
** testing if installed package can be loaded from temporary location
** testing if installed package can be loaded from final location
** testing if installed package keeps a record of temporary installation path
* DONE (hapmap100kxba)