Back to Build/check report for BioC 3.14 experimental data
ABCDEF[G]HIJKLMNOPQRSTUVWXYZ

This page was generated on 2021-10-21 15:52:03 -0400 (Thu, 21 Oct 2021).

BUILD results for grndata on nebbiolo2

To the developers/maintainers of the grndata package:
Make sure to use the following settings in order to reproduce any error or warning you see on this page.

raw results

Package 146/406HostnameOS / ArchINSTALLBUILDCHECK
grndata 1.25.0  (landing page)
Pau Bellot
Snapshot Date: 2021-10-21 09:30:01 -0400 (Thu, 21 Oct 2021)
git_url: https://git.bioconductor.org/packages/grndata
git_branch: master
git_last_commit: 85cc523
git_last_commit_date: 2021-05-19 11:50:00 -0400 (Wed, 19 May 2021)
nebbiolo2Linux (Ubuntu 20.04.2 LTS) / x86_64  OK    OK    WARNINGS  UNNEEDED, same version is already published

Summary

Package: grndata
Version: 1.25.0
Command: /home/biocbuild/bbs-3.14-bioc/R/bin/R CMD build --keep-empty-dirs --no-resave-data grndata
StartedAt: 2021-10-21 11:21:27 -0400 (Thu, 21 Oct 2021)
EndedAt: 2021-10-21 11:21:40 -0400 (Thu, 21 Oct 2021)
EllapsedTime: 12.7 seconds
RetCode: 0
Status:   OK  
PackageFile: grndata_1.25.0.tar.gz
PackageFileSize: 30.15 MiB

Command output

##############################################################################
##############################################################################
###
### Running command:
###
###   /home/biocbuild/bbs-3.14-bioc/R/bin/R CMD build --keep-empty-dirs --no-resave-data grndata
###
##############################################################################
##############################################################################


* checking for file ‘grndata/DESCRIPTION’ ... OK
* preparing ‘grndata’:
* checking DESCRIPTION meta-information ... OK
* installing the package to build vignettes
* creating vignettes ... OK
* checking for LF line-endings in source and make files and shell scripts
* checking for empty or unneeded directories
* building ‘grndata_1.25.0.tar.gz’