Back to Build/check report for BioC 3.14 experimental data
ABCDEF[G]HIJKLMNOPQRSTUVWXYZ

This page was generated on 2021-12-01 18:35:25 -0500 (Wed, 01 Dec 2021).

INSTALL results for genomationData on nebbiolo2

To the developers/maintainers of the genomationData package:
Make sure to use the following settings in order to reproduce any error or warning you see on this page.

raw results

Package 141/408HostnameOS / ArchINSTALLBUILDCHECK
genomationData 1.26.0  (landing page)
Vedran Franke
Snapshot Date: 2021-12-01 08:30:01 -0500 (Wed, 01 Dec 2021)
git_url: https://git.bioconductor.org/packages/genomationData
git_branch: RELEASE_3_14
git_last_commit: 58bb495
git_last_commit_date: 2021-10-26 12:11:47 -0500 (Tue, 26 Oct 2021)
nebbiolo2Linux (Ubuntu 20.04.3 LTS) / x86_64  OK    OK    OK  UNNEEDED, same version is already published

Summary

Package: genomationData
Version: 1.26.0
Command: /home/biocbuild/bbs-3.14-bioc/R/bin/R CMD INSTALL genomationData
StartedAt: 2021-12-01 14:00:22 -0500 (Wed, 01 Dec 2021)
EndedAt: 2021-12-01 14:00:25 -0500 (Wed, 01 Dec 2021)
EllapsedTime: 2.3 seconds
RetCode: 0
Status:   OK  

Command output

##############################################################################
##############################################################################
###
### Running command:
###
###   /home/biocbuild/bbs-3.14-bioc/R/bin/R CMD INSTALL genomationData
###
##############################################################################
##############################################################################


* installing to library ‘/home/biocbuild/bbs-3.14-bioc/R/library’
* installing *source* package ‘genomationData’ ...
** using staged installation
** inst
** help
No man pages found in package  ‘genomationData’ 
*** installing help indices
** building package indices
** installing vignettes
** testing if installed package can be loaded from temporary location
** testing if installed package can be loaded from final location
** testing if installed package keeps a record of temporary installation path
* DONE (genomationData)