Back to Build/check report for BioC 3.14 experimental data
ABCDEF[G]HIJKLMNOPQRSTUVWXYZ

This page was generated on 2021-11-24 18:35:26 -0500 (Wed, 24 Nov 2021).

BUILD results for gcspikelite on nebbiolo2

To the developers/maintainers of the gcspikelite package:
Make sure to use the following settings in order to reproduce any error or warning you see on this page.

raw results

Package 139/408HostnameOS / ArchINSTALLBUILDCHECK
gcspikelite 1.32.0  (landing page)
Mark Robinson
Snapshot Date: 2021-11-24 08:30:01 -0500 (Wed, 24 Nov 2021)
git_url: https://git.bioconductor.org/packages/gcspikelite
git_branch: RELEASE_3_14
git_last_commit: b947ccc
git_last_commit_date: 2021-10-26 11:44:48 -0500 (Tue, 26 Oct 2021)
nebbiolo2Linux (Ubuntu 20.04.3 LTS) / x86_64  OK    OK    WARNINGS  UNNEEDED, same version is already published

Summary

Package: gcspikelite
Version: 1.32.0
Command: /home/biocbuild/bbs-3.14-bioc/R/bin/R CMD build --keep-empty-dirs --no-resave-data gcspikelite
StartedAt: 2021-11-24 14:23:07 -0500 (Wed, 24 Nov 2021)
EndedAt: 2021-11-24 14:23:47 -0500 (Wed, 24 Nov 2021)
EllapsedTime: 40.1 seconds
RetCode: 0
Status:   OK  
PackageFile: gcspikelite_1.32.0.tar.gz
PackageFileSize: 21.63 MiB

Command output

##############################################################################
##############################################################################
###
### Running command:
###
###   /home/biocbuild/bbs-3.14-bioc/R/bin/R CMD build --keep-empty-dirs --no-resave-data gcspikelite
###
##############################################################################
##############################################################################


* checking for file ‘gcspikelite/DESCRIPTION’ ... OK
* preparing ‘gcspikelite’:
* checking DESCRIPTION meta-information ... OK
* checking for LF line-endings in source and make files and shell scripts
* checking for empty or unneeded directories
* looking to see if a ‘data/datalist’ file should be added
* building ‘gcspikelite_1.32.0.tar.gz’