Back to Build/check report for BioC 3.14 experimental data
ABCDEF[G]HIJKLMNOPQRSTUVWXYZ

This page was generated on 2021-11-24 18:35:26 -0500 (Wed, 24 Nov 2021).

BUILD results for gatingMLData on nebbiolo2

To the developers/maintainers of the gatingMLData package:
Make sure to use the following settings in order to reproduce any error or warning you see on this page.

raw results

Package 138/408HostnameOS / ArchINSTALLBUILDCHECK
gatingMLData 2.34.0  (landing page)
J. Spidlen
Snapshot Date: 2021-11-24 08:30:01 -0500 (Wed, 24 Nov 2021)
git_url: https://git.bioconductor.org/packages/gatingMLData
git_branch: RELEASE_3_14
git_last_commit: 986aa33
git_last_commit_date: 2021-10-26 11:39:52 -0500 (Tue, 26 Oct 2021)
nebbiolo2Linux (Ubuntu 20.04.3 LTS) / x86_64  OK    OK    OK  UNNEEDED, same version is already published

Summary

Package: gatingMLData
Version: 2.34.0
Command: /home/biocbuild/bbs-3.14-bioc/R/bin/R CMD build --keep-empty-dirs --no-resave-data gatingMLData
StartedAt: 2021-11-24 14:23:05 -0500 (Wed, 24 Nov 2021)
EndedAt: 2021-11-24 14:23:42 -0500 (Wed, 24 Nov 2021)
EllapsedTime: 36.8 seconds
RetCode: 0
Status:   OK  
PackageFile: gatingMLData_2.34.0.tar.gz
PackageFileSize: 8.113 MiB

Command output

##############################################################################
##############################################################################
###
### Running command:
###
###   /home/biocbuild/bbs-3.14-bioc/R/bin/R CMD build --keep-empty-dirs --no-resave-data gatingMLData
###
##############################################################################
##############################################################################


* checking for file ‘gatingMLData/DESCRIPTION’ ... OK
* preparing ‘gatingMLData’:
* checking DESCRIPTION meta-information ... OK
* checking for LF line-endings in source and make files and shell scripts
* checking for empty or unneeded directories
* building ‘gatingMLData_2.34.0.tar.gz’