Back to Build/check report for BioC 3.14 experimental data
ABCDEF[G]HIJKLMNOPQRSTUVWXYZ

This page was generated on 2021-10-26 15:52:18 -0400 (Tue, 26 Oct 2021).

BUILD results for gageData on nebbiolo2

To the developers/maintainers of the gageData package:
Make sure to use the following settings in order to reproduce any error or warning you see on this page.

raw results

Package 136/408HostnameOS / ArchINSTALLBUILDCHECK
gageData 2.31.0  (landing page)
Weijun Luo
Snapshot Date: 2021-10-26 09:30:02 -0400 (Tue, 26 Oct 2021)
git_url: https://git.bioconductor.org/packages/gageData
git_branch: master
git_last_commit: d64c553
git_last_commit_date: 2021-05-19 11:30:59 -0400 (Wed, 19 May 2021)
nebbiolo2Linux (Ubuntu 20.04.2 LTS) / x86_64  OK    OK    OK  UNNEEDED, same version is already published

Summary

Package: gageData
Version: 2.31.0
Command: /home/biocbuild/bbs-3.14-bioc/R/bin/R CMD build --keep-empty-dirs --no-resave-data gageData
StartedAt: 2021-10-26 11:21:08 -0400 (Tue, 26 Oct 2021)
EndedAt: 2021-10-26 11:21:12 -0400 (Tue, 26 Oct 2021)
EllapsedTime: 3.7 seconds
RetCode: 0
Status:   OK  
PackageFile: gageData_2.31.0.tar.gz
PackageFileSize: 10.59 MiB

Command output

##############################################################################
##############################################################################
###
### Running command:
###
###   /home/biocbuild/bbs-3.14-bioc/R/bin/R CMD build --keep-empty-dirs --no-resave-data gageData
###
##############################################################################
##############################################################################


* checking for file ‘gageData/DESCRIPTION’ ... OK
* preparing ‘gageData’:
* checking DESCRIPTION meta-information ... OK
* checking for LF line-endings in source and make files and shell scripts
* checking for empty or unneeded directories
* looking to see if a ‘data/datalist’ file should be added
* building ‘gageData_2.31.0.tar.gz’