Back to Build/check report for BioC 3.14 experimental data
ABCDE[F]GHIJKLMNOPQRSTUVWXYZ

This page was generated on 2021-10-26 15:52:18 -0400 (Tue, 26 Oct 2021).

INSTALL results for furrowSeg on nebbiolo2

To the developers/maintainers of the furrowSeg package:
Make sure to use the following settings in order to reproduce any error or warning you see on this page.

raw results

Package 135/408HostnameOS / ArchINSTALLBUILDCHECK
furrowSeg 1.21.0  (landing page)
Joseph Barry
Snapshot Date: 2021-10-26 09:30:02 -0400 (Tue, 26 Oct 2021)
git_url: https://git.bioconductor.org/packages/furrowSeg
git_branch: master
git_last_commit: c96ff6e
git_last_commit_date: 2021-05-19 11:53:53 -0400 (Wed, 19 May 2021)
nebbiolo2Linux (Ubuntu 20.04.2 LTS) / x86_64  OK    OK    WARNINGS  UNNEEDED, same version is already published

Summary

Package: furrowSeg
Version: 1.21.0
Command: /home/biocbuild/bbs-3.14-bioc/R/bin/R CMD INSTALL furrowSeg
StartedAt: 2021-10-26 11:02:53 -0400 (Tue, 26 Oct 2021)
EndedAt: 2021-10-26 11:03:06 -0400 (Tue, 26 Oct 2021)
EllapsedTime: 13.0 seconds
RetCode: 0
Status:   OK  

Command output

##############################################################################
##############################################################################
###
### Running command:
###
###   /home/biocbuild/bbs-3.14-bioc/R/bin/R CMD INSTALL furrowSeg
###
##############################################################################
##############################################################################


* installing to library ‘/home/biocbuild/bbs-3.14-bioc/R/library’
* installing *source* package ‘furrowSeg’ ...
** using staged installation
** R
** data
** byte-compile and prepare package for lazy loading
Warning: replacing previous import ‘EBImage::abind’ by ‘abind::abind’ when loading ‘furrowSeg’
** help
*** installing help indices
** building package indices
** installing vignettes
** testing if installed package can be loaded from temporary location
Warning: replacing previous import ‘EBImage::abind’ by ‘abind::abind’ when loading ‘furrowSeg’
** testing if installed package can be loaded from final location
Warning: replacing previous import ‘EBImage::abind’ by ‘abind::abind’ when loading ‘furrowSeg’
** testing if installed package keeps a record of temporary installation path
* DONE (furrowSeg)