Back to Build/check report for BioC 3.14 experimental data
ABCDE[F]GHIJKLMNOPQRSTUVWXYZ

This page was generated on 2021-10-21 15:52:03 -0400 (Thu, 21 Oct 2021).

INSTALL results for flowWorkspaceData on nebbiolo2

To the developers/maintainers of the flowWorkspaceData package:
Make sure to use the following settings in order to reproduce any error or warning you see on this page.

raw results

Package 132/406HostnameOS / ArchINSTALLBUILDCHECK
flowWorkspaceData 3.5.0  (landing page)
Mike Jiang
Snapshot Date: 2021-10-21 09:30:01 -0400 (Thu, 21 Oct 2021)
git_url: https://git.bioconductor.org/packages/flowWorkspaceData
git_branch: master
git_last_commit: 4eff897
git_last_commit_date: 2021-05-19 11:31:55 -0400 (Wed, 19 May 2021)
nebbiolo2Linux (Ubuntu 20.04.2 LTS) / x86_64  OK    OK    OK  UNNEEDED, same version is already published

Summary

Package: flowWorkspaceData
Version: 3.5.0
Command: /home/biocbuild/bbs-3.14-bioc/R/bin/R CMD INSTALL flowWorkspaceData
StartedAt: 2021-10-21 11:01:17 -0400 (Thu, 21 Oct 2021)
EndedAt: 2021-10-21 11:01:19 -0400 (Thu, 21 Oct 2021)
EllapsedTime: 1.3 seconds
RetCode: 0
Status:   OK  

Command output

##############################################################################
##############################################################################
###
### Running command:
###
###   /home/biocbuild/bbs-3.14-bioc/R/bin/R CMD INSTALL flowWorkspaceData
###
##############################################################################
##############################################################################


* installing to library ‘/home/biocbuild/bbs-3.14-bioc/R/library’
* installing *source* package ‘flowWorkspaceData’ ...
** using staged installation
** R
** inst
** byte-compile and prepare package for lazy loading
** help
*** installing help indices
** building package indices
** testing if installed package can be loaded from temporary location
** testing if installed package can be loaded from final location
** testing if installed package keeps a record of temporary installation path
* DONE (flowWorkspaceData)