Back to Build/check report for BioC 3.14 experimental data
ABCDE[F]GHIJKLMNOPQRSTUVWXYZ

This page was generated on 2021-10-26 15:52:18 -0400 (Tue, 26 Oct 2021).

BUILD results for flowPloidyData on nebbiolo2

To the developers/maintainers of the flowPloidyData package:
Make sure to use the following settings in order to reproduce any error or warning you see on this page.

raw results

Package 126/408HostnameOS / ArchINSTALLBUILDCHECK
flowPloidyData 1.19.0  (landing page)
Tyler Smith
Snapshot Date: 2021-10-26 09:30:02 -0400 (Tue, 26 Oct 2021)
git_url: https://git.bioconductor.org/packages/flowPloidyData
git_branch: master
git_last_commit: 02b0cb9
git_last_commit_date: 2021-05-19 11:59:55 -0400 (Wed, 19 May 2021)
nebbiolo2Linux (Ubuntu 20.04.2 LTS) / x86_64  OK    OK    OK  UNNEEDED, same version is already published

Summary

Package: flowPloidyData
Version: 1.19.0
Command: /home/biocbuild/bbs-3.14-bioc/R/bin/R CMD build --keep-empty-dirs --no-resave-data flowPloidyData
StartedAt: 2021-10-26 11:20:21 -0400 (Tue, 26 Oct 2021)
EndedAt: 2021-10-26 11:20:25 -0400 (Tue, 26 Oct 2021)
EllapsedTime: 4.0 seconds
RetCode: 0
Status:   OK  
PackageFile: flowPloidyData_1.19.0.tar.gz
PackageFileSize: 7.098 MiB

Command output

##############################################################################
##############################################################################
###
### Running command:
###
###   /home/biocbuild/bbs-3.14-bioc/R/bin/R CMD build --keep-empty-dirs --no-resave-data flowPloidyData
###
##############################################################################
##############################################################################


* checking for file ‘flowPloidyData/DESCRIPTION’ ... OK
* preparing ‘flowPloidyData’:
* checking DESCRIPTION meta-information ... OK
* installing the package to build vignettes
* creating vignettes ... OK
* checking for LF line-endings in source and make files and shell scripts
* checking for empty or unneeded directories
Omitted ‘LazyData’ from DESCRIPTION
* building ‘flowPloidyData_1.19.0.tar.gz’