Back to Build/check report for BioC 3.14 experimental data
ABCDE[F]GHIJKLMNOPQRSTUVWXYZ

This page was generated on 2021-12-01 18:35:25 -0500 (Wed, 01 Dec 2021).

CHECK results for fission on nebbiolo2

To the developers/maintainers of the fission package:
Make sure to use the following settings in order to reproduce any error or warning you see on this page.

raw results

Package 123/408HostnameOS / ArchINSTALLBUILDCHECK
fission 1.14.0  (landing page)
Michael Love
Snapshot Date: 2021-12-01 08:30:01 -0500 (Wed, 01 Dec 2021)
git_url: https://git.bioconductor.org/packages/fission
git_branch: RELEASE_3_14
git_last_commit: 96dc011
git_last_commit_date: 2021-10-26 12:09:59 -0500 (Tue, 26 Oct 2021)
nebbiolo2Linux (Ubuntu 20.04.3 LTS) / x86_64  OK    OK    OK  UNNEEDED, same version is already published

Summary

Package: fission
Version: 1.14.0
Command: /home/biocbuild/bbs-3.14-bioc/R/bin/R CMD check --install=check:fission.install-out.txt --library=/home/biocbuild/bbs-3.14-bioc/R/library --no-vignettes --timings fission_1.14.0.tar.gz
StartedAt: 2021-12-01 15:17:42 -0500 (Wed, 01 Dec 2021)
EndedAt: 2021-12-01 15:18:19 -0500 (Wed, 01 Dec 2021)
EllapsedTime: 36.7 seconds
RetCode: 0
Status:   OK  
CheckDir: fission.Rcheck
Warnings: 0

Command output

##############################################################################
##############################################################################
###
### Running command:
###
###   /home/biocbuild/bbs-3.14-bioc/R/bin/R CMD check --install=check:fission.install-out.txt --library=/home/biocbuild/bbs-3.14-bioc/R/library --no-vignettes --timings fission_1.14.0.tar.gz
###
##############################################################################
##############################################################################


* using log directory ‘/home/biocbuild/bbs-3.14-data-experiment/meat/fission.Rcheck’
* using R version 4.1.2 (2021-11-01)
* using platform: x86_64-pc-linux-gnu (64-bit)
* using session charset: UTF-8
* using option ‘--no-vignettes’
* checking for file ‘fission/DESCRIPTION’ ... OK
* this is package ‘fission’ version ‘1.14.0’
* checking package namespace information ... OK
* checking package dependencies ... OK
* checking if this is a source package ... OK
* checking if there is a namespace ... OK
* checking for hidden files and directories ... OK
* checking for portable file names ... OK
* checking for sufficient/correct file permissions ... OK
* checking whether package ‘fission’ can be installed ... OK
* checking installed package size ... OK
* checking package directory ... OK
* checking ‘build’ directory ... OK
* checking DESCRIPTION meta-information ... OK
* checking top-level files ... OK
* checking for left-over files ... OK
* checking index information ... OK
* checking package subdirectories ... OK
* checking whether the package can be loaded ... OK
* checking whether the package can be loaded with stated dependencies ... OK
* checking whether the package can be unloaded cleanly ... OK
* checking whether the namespace can be loaded with stated dependencies ... OK
* checking whether the namespace can be unloaded cleanly ... OK
* checking Rd files ... OK
* checking Rd metadata ... OK
* checking Rd cross-references ... OK
* checking for missing documentation entries ... OK
* checking for code/documentation mismatches ... OK
* checking Rd \usage sections ... OK
* checking Rd contents ... OK
* checking for unstated dependencies in examples ... OK
* checking contents of ‘data’ directory ... OK
* checking data for non-ASCII characters ... OK
* checking data for ASCII and uncompressed saves ... OK
* checking files in ‘vignettes’ ... OK
* checking examples ... NONE
* checking for unstated dependencies in vignettes ... OK
* checking package vignettes in ‘inst/doc’ ... OK
* checking running R code from vignettes ... SKIPPED
* checking re-building of vignette outputs ... SKIPPED
* checking PDF version of manual ... OK
* DONE

Status: OK


Installation output

fission.Rcheck/00install.out

##############################################################################
##############################################################################
###
### Running command:
###
###   /home/biocbuild/bbs-3.14-bioc/R/bin/R CMD INSTALL fission
###
##############################################################################
##############################################################################


* installing to library ‘/home/biocbuild/bbs-3.14-bioc/R/library’
* installing *source* package ‘fission’ ...
** using staged installation
** data
** inst
** help
*** installing help indices
** building package indices
** installing vignettes
** testing if installed package can be loaded from temporary location
** testing if installed package can be loaded from final location
** testing if installed package keeps a record of temporary installation path
* DONE (fission)

Tests output


Example timings