Back to Build/check report for BioC 3.14 experimental data
ABCDE[F]GHIJKLMNOPQRSTUVWXYZ

This page was generated on 2021-10-26 15:52:18 -0400 (Tue, 26 Oct 2021).

BUILD results for fibroEset on nebbiolo2

To the developers/maintainers of the fibroEset package:
Make sure to use the following settings in order to reproduce any error or warning you see on this page.

raw results

Package 120/408HostnameOS / ArchINSTALLBUILDCHECK
fibroEset 1.35.0  (landing page)
Sylvia Merk
Snapshot Date: 2021-10-26 09:30:02 -0400 (Tue, 26 Oct 2021)
git_url: https://git.bioconductor.org/packages/fibroEset
git_branch: master
git_last_commit: 1609f34
git_last_commit_date: 2021-05-19 11:24:33 -0400 (Wed, 19 May 2021)
nebbiolo2Linux (Ubuntu 20.04.2 LTS) / x86_64  OK    OK    WARNINGS  UNNEEDED, same version is already published

Summary

Package: fibroEset
Version: 1.35.0
Command: /home/biocbuild/bbs-3.14-bioc/R/bin/R CMD build --keep-empty-dirs --no-resave-data fibroEset
StartedAt: 2021-10-26 11:20:06 -0400 (Tue, 26 Oct 2021)
EndedAt: 2021-10-26 11:20:07 -0400 (Tue, 26 Oct 2021)
EllapsedTime: 0.8 seconds
RetCode: 0
Status:   OK  
PackageFile: fibroEset_1.35.0.tar.gz
PackageFileSize: 1.81 MiB

Command output

##############################################################################
##############################################################################
###
### Running command:
###
###   /home/biocbuild/bbs-3.14-bioc/R/bin/R CMD build --keep-empty-dirs --no-resave-data fibroEset
###
##############################################################################
##############################################################################


* checking for file ‘fibroEset/DESCRIPTION’ ... OK
* preparing ‘fibroEset’:
* checking DESCRIPTION meta-information ... OK
* checking for LF line-endings in source and make files and shell scripts
* checking for empty or unneeded directories
* looking to see if a ‘data/datalist’ file should be added
* building ‘fibroEset_1.35.0.tar.gz’