Back to Build/check report for BioC 3.14 experimental data
ABCDE[F]GHIJKLMNOPQRSTUVWXYZ

This page was generated on 2021-07-27 15:50:45 -0400 (Tue, 27 Jul 2021).

All results for package ffpeExampleData

To the developers/maintainers of the ffpeExampleData package:
Make sure to use the following settings in order to reproduce any error or warning you see on this page.

raw results

Package 117/396HostnameOS / ArchINSTALLBUILDCHECK
ffpeExampleData 1.31.0  (landing page)
Levi Waldron
Snapshot Date: 2021-07-27 09:30:01 -0400 (Tue, 27 Jul 2021)
URL: https://git.bioconductor.org/packages/ffpeExampleData
Branch: master
Last Commit: 85e1450
Last Changed Date: 2021-05-19 11:33:59 -0400 (Wed, 19 May 2021)
nebbiolo2Linux (Ubuntu 20.04.2 LTS) / x86_64  OK    OK    OK  UNNEEDED, same version is already published