Back to Build/check report for BioC 3.14 experimental data
ABCDE[F]GHIJKLMNOPQRSTUVWXYZ

This page was generated on 2021-10-26 15:52:18 -0400 (Tue, 26 Oct 2021).

CHECK results for faahKO on nebbiolo2

To the developers/maintainers of the faahKO package:
Make sure to use the following settings in order to reproduce any error or warning you see on this page.

raw results

Package 116/408HostnameOS / ArchINSTALLBUILDCHECK
faahKO 1.33.0  (landing page)
Steffen Neumann
Snapshot Date: 2021-10-26 09:30:02 -0400 (Tue, 26 Oct 2021)
git_url: https://git.bioconductor.org/packages/faahKO
git_branch: master
git_last_commit: fe9a0d2
git_last_commit_date: 2021-05-19 11:24:24 -0400 (Wed, 19 May 2021)
nebbiolo2Linux (Ubuntu 20.04.2 LTS) / x86_64  OK    OK    OK  UNNEEDED, same version is already published

Summary

Package: faahKO
Version: 1.33.0
Command: /home/biocbuild/bbs-3.14-bioc/R/bin/R CMD check --install=check:faahKO.install-out.txt --library=/home/biocbuild/bbs-3.14-bioc/R/library --no-vignettes --timings faahKO_1.33.0.tar.gz
StartedAt: 2021-10-26 12:19:20 -0400 (Tue, 26 Oct 2021)
EndedAt: 2021-10-26 12:22:20 -0400 (Tue, 26 Oct 2021)
EllapsedTime: 179.6 seconds
RetCode: 0
Status:   OK  
CheckDir: faahKO.Rcheck
Warnings: 0

Command output

##############################################################################
##############################################################################
###
### Running command:
###
###   /home/biocbuild/bbs-3.14-bioc/R/bin/R CMD check --install=check:faahKO.install-out.txt --library=/home/biocbuild/bbs-3.14-bioc/R/library --no-vignettes --timings faahKO_1.33.0.tar.gz
###
##############################################################################
##############################################################################


* using log directory ‘/home/biocbuild/bbs-3.14-data-experiment/meat/faahKO.Rcheck’
* using R version 4.1.1 (2021-08-10)
* using platform: x86_64-pc-linux-gnu (64-bit)
* using session charset: UTF-8
* using option ‘--no-vignettes’
* checking for file ‘faahKO/DESCRIPTION’ ... OK
* this is package ‘faahKO’ version ‘1.33.0’
* checking package namespace information ... OK
* checking package dependencies ... OK
* checking if this is a source package ... OK
* checking if there is a namespace ... OK
* checking for hidden files and directories ... OK
* checking for portable file names ... OK
* checking for sufficient/correct file permissions ... OK
* checking whether package ‘faahKO’ can be installed ... OK
* checking installed package size ... NOTE
  installed size is 43.2Mb
  sub-directories of 1Mb or more:
    cdf  42.4Mb
* checking package directory ... OK
* checking DESCRIPTION meta-information ... OK
* checking top-level files ... OK
* checking for left-over files ... OK
* checking index information ... OK
* checking package subdirectories ... OK
* checking R files for non-ASCII characters ... OK
* checking R files for syntax errors ... OK
* checking whether the package can be loaded ... OK
* checking whether the package can be loaded with stated dependencies ... OK
* checking whether the package can be unloaded cleanly ... OK
* checking whether the namespace can be loaded with stated dependencies ... OK
* checking whether the namespace can be unloaded cleanly ... OK
* checking dependencies in R code ... NOTE
'library' or 'require' call to ‘xcms’ which was already attached by Depends.
  Please remove these calls from your code.
Package in Depends field not imported from: ‘xcms’
  These packages need to be imported from (in the NAMESPACE file)
  for when this namespace is loaded but not attached.
* checking S3 generic/method consistency ... OK
* checking replacement functions ... OK
* checking foreign function calls ... OK
* checking R code for possible problems ... NOTE
File ‘faahKO/R/zzz.R’:
  .onLoad calls:
    require(xcms)

Package startup functions should not change the search path.
See section ‘Good practice’ in '?.onAttach'.

.onLoad: warning in assign("faahko", faahko, env =
  getNamespace("faahKO")): partial argument match of 'env' to 'envir'
* checking Rd files ... OK
* checking Rd metadata ... OK
* checking Rd cross-references ... OK
* checking for missing documentation entries ... OK
* checking for code/documentation mismatches ... OK
* checking Rd \usage sections ... OK
* checking Rd contents ... OK
* checking for unstated dependencies in examples ... OK
* checking contents of ‘data’ directory ... OK
* checking data for non-ASCII characters ... OK
* checking data for ASCII and uncompressed saves ... OK
* checking examples ... OK
* checking PDF version of manual ... OK
* DONE

Status: 3 NOTEs
See
  ‘/home/biocbuild/bbs-3.14-data-experiment/meat/faahKO.Rcheck/00check.log’
for details.



Installation output

faahKO.Rcheck/00install.out

##############################################################################
##############################################################################
###
### Running command:
###
###   /home/biocbuild/bbs-3.14-bioc/R/bin/R CMD INSTALL faahKO
###
##############################################################################
##############################################################################


* installing to library ‘/home/biocbuild/bbs-3.14-bioc/R/library’
* installing *source* package ‘faahKO’ ...
** using staged installation
** R
** data
** inst
** byte-compile and prepare package for lazy loading
** help
*** installing help indices
** building package indices
** testing if installed package can be loaded from temporary location
** testing if installed package can be loaded from final location
** testing if installed package keeps a record of temporary installation path
* DONE (faahKO)

Tests output


Example timings

faahKO.Rcheck/faahKO-Ex.timings

nameusersystemelapsed
faahko1.8130.1151.951
faahko30.2390.0000.238