Back to Build/check report for BioC 3.14 experimental data
ABCD[E]FGHIJKLMNOPQRSTUVWXYZ

This page was generated on 2021-10-21 15:52:02 -0400 (Thu, 21 Oct 2021).

All results for package etec16s

To the developers/maintainers of the etec16s package:
Make sure to use the following settings in order to reproduce any error or warning you see on this page.

raw results

Package 113/406HostnameOS / ArchINSTALLBUILDCHECK
etec16s 1.21.0  (landing page)
Joseph N. Paulson
Snapshot Date: 2021-10-21 09:30:01 -0400 (Thu, 21 Oct 2021)
git_url: https://git.bioconductor.org/packages/etec16s
git_branch: master
git_last_commit: ddb67ef
git_last_commit_date: 2021-05-19 11:57:04 -0400 (Wed, 19 May 2021)
nebbiolo2Linux (Ubuntu 20.04.2 LTS) / x86_64  OK    OK    OK  UNNEEDED, same version is already published