Back to Build/check report for BioC 3.14 experimental data
ABCD[E]FGHIJKLMNOPQRSTUVWXYZ

This page was generated on 2021-10-26 15:52:18 -0400 (Tue, 26 Oct 2021).

BUILD results for estrogen on nebbiolo2

To the developers/maintainers of the estrogen package:
Make sure to use the following settings in order to reproduce any error or warning you see on this page.

raw results

Package 113/408HostnameOS / ArchINSTALLBUILDCHECK
estrogen 1.39.0  (landing page)
Wolfgang Huber
Snapshot Date: 2021-10-26 09:30:02 -0400 (Tue, 26 Oct 2021)
git_url: https://git.bioconductor.org/packages/estrogen
git_branch: master
git_last_commit: dd434a4
git_last_commit_date: 2021-05-19 11:24:00 -0400 (Wed, 19 May 2021)
nebbiolo2Linux (Ubuntu 20.04.2 LTS) / x86_64  OK    OK    OK  UNNEEDED, same version is already published

Summary

Package: estrogen
Version: 1.39.0
Command: /home/biocbuild/bbs-3.14-bioc/R/bin/R CMD build --keep-empty-dirs --no-resave-data estrogen
StartedAt: 2021-10-26 11:18:57 -0400 (Tue, 26 Oct 2021)
EndedAt: 2021-10-26 11:20:05 -0400 (Tue, 26 Oct 2021)
EllapsedTime: 68.3 seconds
RetCode: 0
Status:   OK  
PackageFile: estrogen_1.39.0.tar.gz
PackageFileSize: 25.92 MiB

Command output

##############################################################################
##############################################################################
###
### Running command:
###
###   /home/biocbuild/bbs-3.14-bioc/R/bin/R CMD build --keep-empty-dirs --no-resave-data estrogen
###
##############################################################################
##############################################################################


* checking for file ‘estrogen/DESCRIPTION’ ... OK
* preparing ‘estrogen’:
* checking DESCRIPTION meta-information ... OK
* installing the package to build vignettes
* creating vignettes ... OK
* checking for LF line-endings in source and make files and shell scripts
* checking for empty or unneeded directories
* building ‘estrogen_1.39.0.tar.gz’