Back to Build/check report for BioC 3.14 experimental data
ABCD[E]FGHIJKLMNOPQRSTUVWXYZ

This page was generated on 2021-10-26 15:52:18 -0400 (Tue, 26 Oct 2021).

INSTALL results for ecoliLeucine on nebbiolo2

To the developers/maintainers of the ecoliLeucine package:
Make sure to use the following settings in order to reproduce any error or warning you see on this page.

raw results

Package 109/408HostnameOS / ArchINSTALLBUILDCHECK
ecoliLeucine 1.33.0  (landing page)
Laurent Gautier
Snapshot Date: 2021-10-26 09:30:02 -0400 (Tue, 26 Oct 2021)
git_url: https://git.bioconductor.org/packages/ecoliLeucine
git_branch: master
git_last_commit: 8a3cf56
git_last_commit_date: 2021-05-19 11:23:56 -0400 (Wed, 19 May 2021)
nebbiolo2Linux (Ubuntu 20.04.2 LTS) / x86_64  OK    OK    WARNINGS  UNNEEDED, same version is already published

Summary

Package: ecoliLeucine
Version: 1.33.0
Command: /home/biocbuild/bbs-3.14-bioc/R/bin/R CMD INSTALL ecoliLeucine
StartedAt: 2021-10-26 11:02:29 -0400 (Tue, 26 Oct 2021)
EndedAt: 2021-10-26 11:02:36 -0400 (Tue, 26 Oct 2021)
EllapsedTime: 7.0 seconds
RetCode: 0
Status:   OK  

Command output

##############################################################################
##############################################################################
###
### Running command:
###
###   /home/biocbuild/bbs-3.14-bioc/R/bin/R CMD INSTALL ecoliLeucine
###
##############################################################################
##############################################################################


* installing to library ‘/home/biocbuild/bbs-3.14-bioc/R/library’
* installing *source* package ‘ecoliLeucine’ ...
** using staged installation
** data
** help
*** installing help indices
** building package indices
** testing if installed package can be loaded from temporary location
Warning: replacing previous import ‘AnnotationDbi::tail’ by ‘utils::tail’ when loading ‘ecolicdf’
Warning: replacing previous import ‘AnnotationDbi::head’ by ‘utils::head’ when loading ‘ecolicdf’
** testing if installed package can be loaded from final location
Warning: replacing previous import ‘AnnotationDbi::tail’ by ‘utils::tail’ when loading ‘ecolicdf’
Warning: replacing previous import ‘AnnotationDbi::head’ by ‘utils::head’ when loading ‘ecolicdf’
** testing if installed package keeps a record of temporary installation path
* DONE (ecoliLeucine)