Back to Build/check report for BioC 3.14 experimental data
ABCD[E]FGHIJKLMNOPQRSTUVWXYZ

This page was generated on 2021-10-23 15:51:47 -0400 (Sat, 23 Oct 2021).

BUILD results for ecoliLeucine on nebbiolo2

To the developers/maintainers of the ecoliLeucine package:
Make sure to use the following settings in order to reproduce any error or warning you see on this page.

raw results

Package 109/408HostnameOS / ArchINSTALLBUILDCHECK
ecoliLeucine 1.33.0  (landing page)
Laurent Gautier
Snapshot Date: 2021-10-23 09:30:01 -0400 (Sat, 23 Oct 2021)
git_url: https://git.bioconductor.org/packages/ecoliLeucine
git_branch: master
git_last_commit: 8a3cf56
git_last_commit_date: 2021-05-19 11:23:56 -0400 (Wed, 19 May 2021)
nebbiolo2Linux (Ubuntu 20.04.2 LTS) / x86_64  OK    OK    WARNINGS  UNNEEDED, same version is already published

Summary

Package: ecoliLeucine
Version: 1.33.0
Command: /home/biocbuild/bbs-3.14-bioc/R/bin/R CMD build --keep-empty-dirs --no-resave-data ecoliLeucine
StartedAt: 2021-10-23 11:17:45 -0400 (Sat, 23 Oct 2021)
EndedAt: 2021-10-23 11:17:46 -0400 (Sat, 23 Oct 2021)
EllapsedTime: 1.0 seconds
RetCode: 0
Status:   OK  
PackageFile: ecoliLeucine_1.33.0.tar.gz
PackageFileSize: 5.936 MiB

Command output

##############################################################################
##############################################################################
###
### Running command:
###
###   /home/biocbuild/bbs-3.14-bioc/R/bin/R CMD build --keep-empty-dirs --no-resave-data ecoliLeucine
###
##############################################################################
##############################################################################


* checking for file ‘ecoliLeucine/DESCRIPTION’ ... OK
* preparing ‘ecoliLeucine’:
* checking DESCRIPTION meta-information ... OK
* checking for LF line-endings in source and make files and shell scripts
* checking for empty or unneeded directories
* looking to see if a ‘data/datalist’ file should be added
* building ‘ecoliLeucine_1.33.0.tar.gz’