Back to Build/check report for BioC 3.14 experimental data
ABC[D]EFGHIJKLMNOPQRSTUVWXYZ

This page was generated on 2021-10-26 15:52:18 -0400 (Tue, 26 Oct 2021).

BUILD results for dyebiasexamples on nebbiolo2

To the developers/maintainers of the dyebiasexamples package:
Make sure to use the following settings in order to reproduce any error or warning you see on this page.

raw results

Package 106/408HostnameOS / ArchINSTALLBUILDCHECK
dyebiasexamples 1.33.0  (landing page)
Philip Lijnzaad
Snapshot Date: 2021-10-26 09:30:02 -0400 (Tue, 26 Oct 2021)
git_url: https://git.bioconductor.org/packages/dyebiasexamples
git_branch: master
git_last_commit: 85bd056
git_last_commit_date: 2021-05-19 11:29:58 -0400 (Wed, 19 May 2021)
nebbiolo2Linux (Ubuntu 20.04.2 LTS) / x86_64  OK    OK    WARNINGS  UNNEEDED, same version is already published

Summary

Package: dyebiasexamples
Version: 1.33.0
Command: /home/biocbuild/bbs-3.14-bioc/R/bin/R CMD build --keep-empty-dirs --no-resave-data dyebiasexamples
StartedAt: 2021-10-26 11:18:29 -0400 (Tue, 26 Oct 2021)
EndedAt: 2021-10-26 11:18:35 -0400 (Tue, 26 Oct 2021)
EllapsedTime: 6.0 seconds
RetCode: 0
Status:   OK  
PackageFile: dyebiasexamples_1.33.0.tar.gz
PackageFileSize: 15.2 MiB

Command output

##############################################################################
##############################################################################
###
### Running command:
###
###   /home/biocbuild/bbs-3.14-bioc/R/bin/R CMD build --keep-empty-dirs --no-resave-data dyebiasexamples
###
##############################################################################
##############################################################################


* checking for file ‘dyebiasexamples/DESCRIPTION’ ... OK
* preparing ‘dyebiasexamples’:
* checking DESCRIPTION meta-information ... OK
* checking for LF line-endings in source and make files and shell scripts
* checking for empty or unneeded directories
* looking to see if a ‘data/datalist’ file should be added
* building ‘dyebiasexamples_1.33.0.tar.gz’