Back to Build/check report for BioC 3.14 experimental data
ABC[D]EFGHIJKLMNOPQRSTUVWXYZ

This page was generated on 2021-10-23 15:51:47 -0400 (Sat, 23 Oct 2021).

BUILD results for dorothea on nebbiolo2

To the developers/maintainers of the dorothea package:
Make sure to use the following settings in order to reproduce any error or warning you see on this page.

raw results

Package 99/408HostnameOS / ArchINSTALLBUILDCHECK
dorothea 1.5.3  (landing page)
Daniel Dimitrov
Snapshot Date: 2021-10-23 09:30:01 -0400 (Sat, 23 Oct 2021)
git_url: https://git.bioconductor.org/packages/dorothea
git_branch: master
git_last_commit: 4b46068
git_last_commit_date: 2021-10-17 16:36:04 -0400 (Sun, 17 Oct 2021)
nebbiolo2Linux (Ubuntu 20.04.2 LTS) / x86_64  OK    OK    OK  UNNEEDED, same version is already published

Summary

Package: dorothea
Version: 1.5.3
Command: /home/biocbuild/bbs-3.14-bioc/R/bin/R CMD build --keep-empty-dirs --no-resave-data dorothea
StartedAt: 2021-10-23 11:17:02 -0400 (Sat, 23 Oct 2021)
EndedAt: 2021-10-23 11:19:15 -0400 (Sat, 23 Oct 2021)
EllapsedTime: 133.3 seconds
RetCode: 0
Status:   OK  
PackageFile: dorothea_1.5.3.tar.gz
PackageFileSize: 32.57 MiB

Command output

##############################################################################
##############################################################################
###
### Running command:
###
###   /home/biocbuild/bbs-3.14-bioc/R/bin/R CMD build --keep-empty-dirs --no-resave-data dorothea
###
##############################################################################
##############################################################################


* checking for file ‘dorothea/DESCRIPTION’ ... OK
* preparing ‘dorothea’:
* checking DESCRIPTION meta-information ... OK
* installing the package to build vignettes
* creating vignettes ... OK
* checking for LF line-endings in source and make files and shell scripts
* checking for empty or unneeded directories
* building ‘dorothea_1.5.3.tar.gz’