Back to Build/check report for BioC 3.14 experimental data
ABC[D]EFGHIJKLMNOPQRSTUVWXYZ

This page was generated on 2021-10-21 15:52:03 -0400 (Thu, 21 Oct 2021).

CHECK results for diggitdata on nebbiolo2

To the developers/maintainers of the diggitdata package:
Make sure to use the following settings in order to reproduce any error or warning you see on this page.

raw results

Package 94/406HostnameOS / ArchINSTALLBUILDCHECK
diggitdata 1.25.0  (landing page)
Mariano Javier Alvarez
Snapshot Date: 2021-10-21 09:30:01 -0400 (Thu, 21 Oct 2021)
git_url: https://git.bioconductor.org/packages/diggitdata
git_branch: master
git_last_commit: 80405b2
git_last_commit_date: 2021-05-19 11:49:55 -0400 (Wed, 19 May 2021)
nebbiolo2Linux (Ubuntu 20.04.2 LTS) / x86_64  OK    OK    OK  UNNEEDED, same version is already published

Summary

Package: diggitdata
Version: 1.25.0
Command: /home/biocbuild/bbs-3.14-bioc/R/bin/R CMD check --install=check:diggitdata.install-out.txt --library=/home/biocbuild/bbs-3.14-bioc/R/library --no-vignettes --timings diggitdata_1.25.0.tar.gz
StartedAt: 2021-10-21 12:14:51 -0400 (Thu, 21 Oct 2021)
EndedAt: 2021-10-21 12:15:23 -0400 (Thu, 21 Oct 2021)
EllapsedTime: 31.9 seconds
RetCode: 0
Status:   OK  
CheckDir: diggitdata.Rcheck
Warnings: 0

Command output

##############################################################################
##############################################################################
###
### Running command:
###
###   /home/biocbuild/bbs-3.14-bioc/R/bin/R CMD check --install=check:diggitdata.install-out.txt --library=/home/biocbuild/bbs-3.14-bioc/R/library --no-vignettes --timings diggitdata_1.25.0.tar.gz
###
##############################################################################
##############################################################################


* using log directory ‘/home/biocbuild/bbs-3.14-data-experiment/meat/diggitdata.Rcheck’
* using R version 4.1.1 (2021-08-10)
* using platform: x86_64-pc-linux-gnu (64-bit)
* using session charset: UTF-8
* using option ‘--no-vignettes’
* checking for file ‘diggitdata/DESCRIPTION’ ... OK
* checking extension type ... Package
* this is package ‘diggitdata’ version ‘1.25.0’
* checking package namespace information ... OK
* checking package dependencies ... OK
* checking if this is a source package ... OK
* checking if there is a namespace ... OK
* checking for hidden files and directories ... OK
* checking for portable file names ... OK
* checking for sufficient/correct file permissions ... OK
* checking whether package ‘diggitdata’ can be installed ... OK
* checking installed package size ... NOTE
  installed size is 47.3Mb
  sub-directories of 1Mb or more:
    data  47.2Mb
* checking package directory ... OK
* checking ‘build’ directory ... OK
* checking DESCRIPTION meta-information ... OK
* checking top-level files ... OK
* checking for left-over files ... OK
* checking index information ... OK
* checking package subdirectories ... OK
* checking whether the package can be loaded ... OK
* checking whether the package can be loaded with stated dependencies ... OK
* checking whether the package can be unloaded cleanly ... OK
* checking whether the namespace can be loaded with stated dependencies ... OK
* checking whether the namespace can be unloaded cleanly ... OK
* checking Rd files ... OK
* checking Rd metadata ... OK
* checking Rd cross-references ... OK
* checking for missing documentation entries ... OK
* checking for code/documentation mismatches ... OK
* checking Rd \usage sections ... OK
* checking Rd contents ... OK
* checking for unstated dependencies in examples ... OK
* checking contents of ‘data’ directory ... OK
* checking data for non-ASCII characters ... OK
* checking data for ASCII and uncompressed saves ... OK
* checking files in ‘vignettes’ ... OK
* checking examples ... OK
* checking for unstated dependencies in vignettes ... OK
* checking package vignettes in ‘inst/doc’ ... OK
* checking running R code from vignettes ... SKIPPED
* checking re-building of vignette outputs ... SKIPPED
* checking PDF version of manual ... OK
* DONE

Status: 1 NOTE
See
  ‘/home/biocbuild/bbs-3.14-data-experiment/meat/diggitdata.Rcheck/00check.log’
for details.



Installation output

diggitdata.Rcheck/00install.out

##############################################################################
##############################################################################
###
### Running command:
###
###   /home/biocbuild/bbs-3.14-bioc/R/bin/R CMD INSTALL diggitdata
###
##############################################################################
##############################################################################


* installing to library ‘/home/biocbuild/bbs-3.14-bioc/R/library’
* installing *source* package ‘diggitdata’ ...
** using staged installation
** data
** help
*** installing help indices
** building package indices
** installing vignettes
** testing if installed package can be loaded from temporary location
** testing if installed package can be loaded from final location
** testing if installed package keeps a record of temporary installation path
* DONE (diggitdata)

Tests output


Example timings

diggitdata.Rcheck/diggitdata-Ex.timings

nameusersystemelapsed
gbm.aracne0.2730.0120.286
gbm.cnv0.1990.0280.227
gbm.cnv.normal0.0410.0080.050
gbm.expression1.2110.0561.267
gbm.mindy0.0020.0020.005