Back to Build/check report for BioC 3.14 experimental data
ABC[D]EFGHIJKLMNOPQRSTUVWXYZ

This page was generated on 2021-10-16 15:51:46 -0400 (Sat, 16 Oct 2021).

BUILD results for derfinderData on nebbiolo2

To the developers/maintainers of the derfinderData package:
Make sure to use the following settings in order to reproduce any error or warning you see on this page.

raw results

Package 90/404HostnameOS / ArchINSTALLBUILDCHECK
derfinderData 2.11.1  (landing page)
Leonardo Collado-Torres
Snapshot Date: 2021-10-16 09:30:02 -0400 (Sat, 16 Oct 2021)
git_url: https://git.bioconductor.org/packages/derfinderData
git_branch: master
git_last_commit: e46a0da
git_last_commit_date: 2021-08-09 20:15:35 -0400 (Mon, 09 Aug 2021)
nebbiolo2Linux (Ubuntu 20.04.2 LTS) / x86_64  OK    OK    OK  UNNEEDED, same version is already published

Summary

Package: derfinderData
Version: 2.11.1
Command: /home/biocbuild/bbs-3.14-bioc/R/bin/R CMD build --keep-empty-dirs --no-resave-data derfinderData
StartedAt: 2021-10-16 11:15:41 -0400 (Sat, 16 Oct 2021)
EndedAt: 2021-10-16 11:15:47 -0400 (Sat, 16 Oct 2021)
EllapsedTime: 5.5 seconds
RetCode: 0
Status:   OK  
PackageFile: derfinderData_2.11.1.tar.gz
PackageFileSize: 27.51 MiB

Command output

##############################################################################
##############################################################################
###
### Running command:
###
###   /home/biocbuild/bbs-3.14-bioc/R/bin/R CMD build --keep-empty-dirs --no-resave-data derfinderData
###
##############################################################################
##############################################################################


* checking for file ‘derfinderData/DESCRIPTION’ ... OK
* preparing ‘derfinderData’:
* checking DESCRIPTION meta-information ... OK
* installing the package to build vignettes
* creating vignettes ... OK
* checking for LF line-endings in source and make files and shell scripts
* checking for empty or unneeded directories
* building ‘derfinderData_2.11.1.tar.gz’