Back to Build/check report for BioC 3.14 experimental data
ABC[D]EFGHIJKLMNOPQRSTUVWXYZ

This page was generated on 2021-10-23 15:51:46 -0400 (Sat, 23 Oct 2021).

BUILD results for depmap on nebbiolo2

To the developers/maintainers of the depmap package:
Make sure to use the following settings in order to reproduce any error or warning you see on this page.

raw results

Package 89/408HostnameOS / ArchINSTALLBUILDCHECK
depmap 1.7.1  (landing page)
Laurent Gatto
Snapshot Date: 2021-10-23 09:30:01 -0400 (Sat, 23 Oct 2021)
git_url: https://git.bioconductor.org/packages/depmap
git_branch: master
git_last_commit: c35dc77
git_last_commit_date: 2021-09-03 04:10:17 -0400 (Fri, 03 Sep 2021)
nebbiolo2Linux (Ubuntu 20.04.2 LTS) / x86_64  OK    OK    OK  UNNEEDED, same version is already published

Summary

Package: depmap
Version: 1.7.1
Command: /home/biocbuild/bbs-3.14-bioc/R/bin/R CMD build --keep-empty-dirs --no-resave-data depmap
StartedAt: 2021-10-23 11:15:40 -0400 (Sat, 23 Oct 2021)
EndedAt: 2021-10-23 11:27:30 -0400 (Sat, 23 Oct 2021)
EllapsedTime: 710.1 seconds
RetCode: 0
Status:   OK  
PackageFile: depmap_1.7.1.tar.gz
PackageFileSize: 1.31 MiB

Command output

##############################################################################
##############################################################################
###
### Running command:
###
###   /home/biocbuild/bbs-3.14-bioc/R/bin/R CMD build --keep-empty-dirs --no-resave-data depmap
###
##############################################################################
##############################################################################


* checking for file ‘depmap/DESCRIPTION’ ... OK
* preparing ‘depmap’:
* checking DESCRIPTION meta-information ... OK
* installing the package to build vignettes
* creating vignettes ... OK
* checking for LF line-endings in source and make files and shell scripts
* checking for empty or unneeded directories
* building ‘depmap_1.7.1.tar.gz’