Back to Build/check report for BioC 3.14 experimental data
AB[C]DEFGHIJKLMNOPQRSTUVWXYZ

This page was generated on 2021-10-19 15:52:17 -0400 (Tue, 19 Oct 2021).

BUILD results for curatedMetagenomicData on nebbiolo2

To the developers/maintainers of the curatedMetagenomicData package:
Make sure to use the following settings in order to reproduce any error or warning you see on this page.

raw results

Package 83/404HostnameOS / ArchINSTALLBUILDCHECK
curatedMetagenomicData 3.1.12  (landing page)
Lucas schiffer
Snapshot Date: 2021-10-19 09:30:02 -0400 (Tue, 19 Oct 2021)
git_url: https://git.bioconductor.org/packages/curatedMetagenomicData
git_branch: master
git_last_commit: 393920e
git_last_commit_date: 2021-10-18 11:15:33 -0400 (Mon, 18 Oct 2021)
nebbiolo2Linux (Ubuntu 20.04.2 LTS) / x86_64  OK    OK    OK  YES

Summary

Package: curatedMetagenomicData
Version: 3.1.12
Command: /home/biocbuild/bbs-3.14-bioc/R/bin/R CMD build --keep-empty-dirs --no-resave-data curatedMetagenomicData
StartedAt: 2021-10-19 11:14:08 -0400 (Tue, 19 Oct 2021)
EndedAt: 2021-10-19 11:16:21 -0400 (Tue, 19 Oct 2021)
EllapsedTime: 133.1 seconds
RetCode: 0
Status:   OK  
PackageFile: curatedMetagenomicData_3.1.12.tar.gz
PackageFileSize: 1.752 MiB

Command output

##############################################################################
##############################################################################
###
### Running command:
###
###   /home/biocbuild/bbs-3.14-bioc/R/bin/R CMD build --keep-empty-dirs --no-resave-data curatedMetagenomicData
###
##############################################################################
##############################################################################


* checking for file ‘curatedMetagenomicData/DESCRIPTION’ ... OK
* preparing ‘curatedMetagenomicData’:
* checking DESCRIPTION meta-information ... OK
* installing the package to build vignettes
* creating vignettes ... OK
* checking for LF line-endings in source and make files and shell scripts
* checking for empty or unneeded directories
* building ‘curatedMetagenomicData_3.1.12.tar.gz’