Back to Build/check report for BioC 3.14 experimental data
AB[C]DEFGHIJKLMNOPQRSTUVWXYZ

This page was generated on 2021-11-24 18:35:26 -0500 (Wed, 24 Nov 2021).

BUILD results for colonCA on nebbiolo2

To the developers/maintainers of the colonCA package:
Make sure to use the following settings in order to reproduce any error or warning you see on this page.

raw results

Package 69/408HostnameOS / ArchINSTALLBUILDCHECK
colonCA 1.36.0  (landing page)
W Sylvia Merk
Snapshot Date: 2021-11-24 08:30:01 -0500 (Wed, 24 Nov 2021)
git_url: https://git.bioconductor.org/packages/colonCA
git_branch: RELEASE_3_14
git_last_commit: 372d919
git_last_commit_date: 2021-10-26 11:39:02 -0500 (Tue, 26 Oct 2021)
nebbiolo2Linux (Ubuntu 20.04.3 LTS) / x86_64  OK    OK    WARNINGS  UNNEEDED, same version is already published

Summary

Package: colonCA
Version: 1.36.0
Command: /home/biocbuild/bbs-3.14-bioc/R/bin/R CMD build --keep-empty-dirs --no-resave-data colonCA
StartedAt: 2021-11-24 14:14:30 -0500 (Wed, 24 Nov 2021)
EndedAt: 2021-11-24 14:14:31 -0500 (Wed, 24 Nov 2021)
EllapsedTime: 0.3 seconds
RetCode: 0
Status:   OK  
PackageFile: colonCA_1.36.0.tar.gz
PackageFileSize: 783.3 KiB

Command output

##############################################################################
##############################################################################
###
### Running command:
###
###   /home/biocbuild/bbs-3.14-bioc/R/bin/R CMD build --keep-empty-dirs --no-resave-data colonCA
###
##############################################################################
##############################################################################


* checking for file ‘colonCA/DESCRIPTION’ ... OK
* preparing ‘colonCA’:
* checking DESCRIPTION meta-information ... OK
* checking for LF line-endings in source and make files and shell scripts
* checking for empty or unneeded directories
* looking to see if a ‘data/datalist’ file should be added
* building ‘colonCA_1.36.0.tar.gz’