Index of /checkResults/3.14/data-experiment-LATEST/clustifyrdatahub/raw-results/nebbiolo2

[ICO]NameLast modifiedSizeDescription

[DIR]Parent Directory  -  
[TXT]buildsrc-out.txt20-Jan-2022 04:50 881  
[   ]buildsrc-summary.dcf20-Jan-2022 04:50 440  
[TXT]checksrc-out.txt20-Jan-2022 04:50 2.9K 
[   ]checksrc-summary.dcf20-Jan-2022 04:50 458  
[TXT]install-out.txt20-Jan-2022 04:50 1.0K 
[   ]install-summary.dcf20-Jan-2022 04:50 276