Back to Build/check report for BioC 3.14 experimental data
AB[C]DEFGHIJKLMNOPQRSTUVWXYZ

This page was generated on 2021-10-26 15:52:18 -0400 (Tue, 26 Oct 2021).

INSTALL results for clustifyrdatahub on nebbiolo2

To the developers/maintainers of the clustifyrdatahub package:
Make sure to use the following settings in order to reproduce any error or warning you see on this page.

raw results

Package 65/408HostnameOS / ArchINSTALLBUILDCHECK
clustifyrdatahub 1.3.0  (landing page)
Rui Fu
Snapshot Date: 2021-10-26 09:30:02 -0400 (Tue, 26 Oct 2021)
git_url: https://git.bioconductor.org/packages/clustifyrdatahub
git_branch: master
git_last_commit: 93b5627
git_last_commit_date: 2021-05-19 12:10:52 -0400 (Wed, 19 May 2021)
nebbiolo2Linux (Ubuntu 20.04.2 LTS) / x86_64  OK    OK    OK  UNNEEDED, same version is already published

Summary

Package: clustifyrdatahub
Version: 1.3.0
Command: /home/biocbuild/bbs-3.14-bioc/R/bin/R CMD INSTALL clustifyrdatahub
StartedAt: 2021-10-26 11:04:38 -0400 (Tue, 26 Oct 2021)
EndedAt: 2021-10-26 11:04:55 -0400 (Tue, 26 Oct 2021)
EllapsedTime: 16.7 seconds
RetCode: 0
Status:   OK  

Command output

##############################################################################
##############################################################################
###
### Running command:
###
###   /home/biocbuild/bbs-3.14-bioc/R/bin/R CMD INSTALL clustifyrdatahub
###
##############################################################################
##############################################################################


* installing to library ‘/home/biocbuild/bbs-3.14-bioc/R/library’
* installing *source* package ‘clustifyrdatahub’ ...
** using staged installation
** R
** inst
** byte-compile and prepare package for lazy loading
** help
*** installing help indices
** building package indices
** installing vignettes
** testing if installed package can be loaded from temporary location
snapshotDate(): 2021-10-18
** testing if installed package can be loaded from final location
snapshotDate(): 2021-10-18
** testing if installed package keeps a record of temporary installation path
* DONE (clustifyrdatahub)