Index of /checkResults/3.14/data-experiment-LATEST/chromstaRData/raw-results/nebbiolo2

[ICO]NameLast modifiedSizeDescription

[DIR]Parent Directory  -  
[TXT]buildsrc-out.txt20-Jan-2022 04:50 821  
[   ]buildsrc-summary.dcf20-Jan-2022 04:50 434  
[TXT]checksrc-out.txt20-Jan-2022 04:50 3.0K 
[   ]checksrc-summary.dcf20-Jan-2022 04:50 447  
[TXT]install-out.txt20-Jan-2022 04:50 949  
[   ]install-summary.dcf20-Jan-2022 04:50 271