Back to Build/check report for BioC 3.14 experimental data
AB[C]DEFGHIJKLMNOPQRSTUVWXYZ

This page was generated on 2021-10-23 15:51:46 -0400 (Sat, 23 Oct 2021).

BUILD results for chromstaRData on nebbiolo2

To the developers/maintainers of the chromstaRData package:
Make sure to use the following settings in order to reproduce any error or warning you see on this page.

raw results

Package 61/408HostnameOS / ArchINSTALLBUILDCHECK
chromstaRData 1.19.0  (landing page)
Aaron Taudt
Snapshot Date: 2021-10-23 09:30:01 -0400 (Sat, 23 Oct 2021)
git_url: https://git.bioconductor.org/packages/chromstaRData
git_branch: master
git_last_commit: 80d1e32
git_last_commit_date: 2021-05-19 11:58:54 -0400 (Wed, 19 May 2021)
nebbiolo2Linux (Ubuntu 20.04.2 LTS) / x86_64  OK    OK    OK  UNNEEDED, same version is already published

Summary

Package: chromstaRData
Version: 1.19.0
Command: /home/biocbuild/bbs-3.14-bioc/R/bin/R CMD build --keep-empty-dirs --no-resave-data chromstaRData
StartedAt: 2021-10-23 11:12:29 -0400 (Sat, 23 Oct 2021)
EndedAt: 2021-10-23 11:12:38 -0400 (Sat, 23 Oct 2021)
EllapsedTime: 9.2 seconds
RetCode: 0
Status:   OK  
PackageFile: chromstaRData_1.19.0.tar.gz
PackageFileSize: 140.2 MiB

Command output

##############################################################################
##############################################################################
###
### Running command:
###
###   /home/biocbuild/bbs-3.14-bioc/R/bin/R CMD build --keep-empty-dirs --no-resave-data chromstaRData
###
##############################################################################
##############################################################################


* checking for file ‘chromstaRData/DESCRIPTION’ ... OK
* preparing ‘chromstaRData’:
* checking DESCRIPTION meta-information ... OK
* checking for LF line-endings in source and make files and shell scripts
* checking for empty or unneeded directories
* looking to see if a ‘data/datalist’ file should be added
* building ‘chromstaRData_1.19.0.tar.gz’