Back to Build/check report for BioC 3.14 experimental data
AB[C]DEFGHIJKLMNOPQRSTUVWXYZ

This page was generated on 2021-10-16 15:51:46 -0400 (Sat, 16 Oct 2021).

BUILD results for ccTutorial on nebbiolo2

To the developers/maintainers of the ccTutorial package:
Make sure to use the following settings in order to reproduce any error or warning you see on this page.

raw results

Package 50/404HostnameOS / ArchINSTALLBUILDCHECK
ccTutorial 1.31.0  (landing page)
Joern Toedling
Snapshot Date: 2021-10-16 09:30:02 -0400 (Sat, 16 Oct 2021)
git_url: https://git.bioconductor.org/packages/ccTutorial
git_branch: master
git_last_commit: af3b670
git_last_commit_date: 2021-05-19 11:28:30 -0400 (Wed, 19 May 2021)
nebbiolo2Linux (Ubuntu 20.04.2 LTS) / x86_64  OK    OK    OK  UNNEEDED, same version is already published

Summary

Package: ccTutorial
Version: 1.31.0
Command: /home/biocbuild/bbs-3.14-bioc/R/bin/R CMD build --keep-empty-dirs --no-resave-data ccTutorial
StartedAt: 2021-10-16 11:11:01 -0400 (Sat, 16 Oct 2021)
EndedAt: 2021-10-16 11:14:32 -0400 (Sat, 16 Oct 2021)
EllapsedTime: 211.4 seconds
RetCode: 0
Status:   OK  
PackageFile: ccTutorial_1.31.0.tar.gz
PackageFileSize: 278.5 MiB

Command output

##############################################################################
##############################################################################
###
### Running command:
###
###   /home/biocbuild/bbs-3.14-bioc/R/bin/R CMD build --keep-empty-dirs --no-resave-data ccTutorial
###
##############################################################################
##############################################################################


* checking for file ‘ccTutorial/DESCRIPTION’ ... OK
* preparing ‘ccTutorial’:
* checking DESCRIPTION meta-information ... OK
* installing the package to build vignettes
* creating vignettes ... OK
* checking for LF line-endings in source and make files and shell scripts
* checking for empty or unneeded directories
* looking to see if a ‘data/datalist’ file should be added
* building ‘ccTutorial_1.31.0.tar.gz’