Index of /checkResults/3.14/data-experiment-LATEST/cMap2data/raw-results

[ICO]NameLast modifiedSizeDescription

[DIR]Parent Directory  -  
[   ]info.dcf25-Nov-2021 08:35 283  
[DIR]nebbiolo2/25-Nov-2021 08:35 -