Back to Build/check report for BioC 3.14 experimental data
AB[C]DEFGHIJKLMNOPQRSTUVWXYZ

This page was generated on 2021-10-19 15:52:17 -0400 (Tue, 19 Oct 2021).

BUILD results for cMap2data on nebbiolo2

To the developers/maintainers of the cMap2data package:
Make sure to use the following settings in order to reproduce any error or warning you see on this page.

raw results

Package 66/404HostnameOS / ArchINSTALLBUILDCHECK
cMap2data 1.29.0  (landing page)
J. Saez-Rodriguez
Snapshot Date: 2021-10-19 09:30:02 -0400 (Tue, 19 Oct 2021)
git_url: https://git.bioconductor.org/packages/cMap2data
git_branch: master
git_last_commit: 5837ec5
git_last_commit_date: 2021-05-19 11:39:25 -0400 (Wed, 19 May 2021)
nebbiolo2Linux (Ubuntu 20.04.2 LTS) / x86_64  OK    OK    WARNINGS  UNNEEDED, same version is already published

Summary

Package: cMap2data
Version: 1.29.0
Command: /home/biocbuild/bbs-3.14-bioc/R/bin/R CMD build --keep-empty-dirs --no-resave-data cMap2data
StartedAt: 2021-10-19 11:12:33 -0400 (Tue, 19 Oct 2021)
EndedAt: 2021-10-19 11:12:54 -0400 (Tue, 19 Oct 2021)
EllapsedTime: 21.1 seconds
RetCode: 0
Status:   OK  
PackageFile: cMap2data_1.29.0.tar.gz
PackageFileSize: 27.88 MiB

Command output

##############################################################################
##############################################################################
###
### Running command:
###
###   /home/biocbuild/bbs-3.14-bioc/R/bin/R CMD build --keep-empty-dirs --no-resave-data cMap2data
###
##############################################################################
##############################################################################


* checking for file ‘cMap2data/DESCRIPTION’ ... OK
* preparing ‘cMap2data’:
* checking DESCRIPTION meta-information ... OK
* installing the package to build vignettes
* creating vignettes ... OK
* checking for LF line-endings in source and make files and shell scripts
* checking for empty or unneeded directories
* building ‘cMap2data_1.29.0.tar.gz’