Back to Build/check report for BioC 3.14 experimental data
A[B]CDEFGHIJKLMNOPQRSTUVWXYZ

This page was generated on 2021-10-19 15:52:17 -0400 (Tue, 19 Oct 2021).

INSTALL results for brgedata on nebbiolo2

To the developers/maintainers of the brgedata package:
Make sure to use the following settings in order to reproduce any error or warning you see on this page.

raw results

Package 43/404HostnameOS / ArchINSTALLBUILDCHECK
brgedata 1.15.2  (landing page)
Dolors Pelegri-Siso
Snapshot Date: 2021-10-19 09:30:02 -0400 (Tue, 19 Oct 2021)
git_url: https://git.bioconductor.org/packages/brgedata
git_branch: master
git_last_commit: 75452e3
git_last_commit_date: 2021-07-22 04:05:21 -0400 (Thu, 22 Jul 2021)
nebbiolo2Linux (Ubuntu 20.04.2 LTS) / x86_64  OK    OK    WARNINGS  UNNEEDED, same version is already published

Summary

Package: brgedata
Version: 1.15.2
Command: /home/biocbuild/bbs-3.14-bioc/R/bin/R CMD INSTALL brgedata
StartedAt: 2021-10-19 11:01:37 -0400 (Tue, 19 Oct 2021)
EndedAt: 2021-10-19 11:02:40 -0400 (Tue, 19 Oct 2021)
EllapsedTime: 63.5 seconds
RetCode: 0
Status:   OK  

Command output

##############################################################################
##############################################################################
###
### Running command:
###
###   /home/biocbuild/bbs-3.14-bioc/R/bin/R CMD INSTALL brgedata
###
##############################################################################
##############################################################################


* installing to library ‘/home/biocbuild/bbs-3.14-bioc/R/library’
* installing *source* package ‘brgedata’ ...
** using staged installation
** R
** data
*** moving datasets to lazyload DB
** inst
** byte-compile and prepare package for lazy loading
** help
*** installing help indices
** building package indices
** installing vignettes
** testing if installed package can be loaded from temporary location
** testing if installed package can be loaded from final location
** testing if installed package keeps a record of temporary installation path
* DONE (brgedata)