Back to Build/check report for BioC 3.14 experimental data
A[B]CDEFGHIJKLMNOPQRSTUVWXYZ

This page was generated on 2021-10-23 15:51:46 -0400 (Sat, 23 Oct 2021).

BUILD results for brgedata on nebbiolo2

To the developers/maintainers of the brgedata package:
Make sure to use the following settings in order to reproduce any error or warning you see on this page.

raw results

Package 43/408HostnameOS / ArchINSTALLBUILDCHECK
brgedata 1.15.2  (landing page)
Dolors Pelegri-Siso
Snapshot Date: 2021-10-23 09:30:01 -0400 (Sat, 23 Oct 2021)
git_url: https://git.bioconductor.org/packages/brgedata
git_branch: master
git_last_commit: 75452e3
git_last_commit_date: 2021-07-22 04:05:21 -0400 (Thu, 22 Jul 2021)
nebbiolo2Linux (Ubuntu 20.04.2 LTS) / x86_64  OK    OK    WARNINGS  UNNEEDED, same version is already published

Summary

Package: brgedata
Version: 1.15.2
Command: /home/biocbuild/bbs-3.14-bioc/R/bin/R CMD build --keep-empty-dirs --no-resave-data brgedata
StartedAt: 2021-10-23 11:11:20 -0400 (Sat, 23 Oct 2021)
EndedAt: 2021-10-23 11:14:50 -0400 (Sat, 23 Oct 2021)
EllapsedTime: 210.1 seconds
RetCode: 0
Status:   OK  
PackageFile: brgedata_1.15.2.tar.gz
PackageFileSize: 297 MiB

Command output

##############################################################################
##############################################################################
###
### Running command:
###
###   /home/biocbuild/bbs-3.14-bioc/R/bin/R CMD build --keep-empty-dirs --no-resave-data brgedata
###
##############################################################################
##############################################################################


* checking for file ‘brgedata/DESCRIPTION’ ... OK
* preparing ‘brgedata’:
* checking DESCRIPTION meta-information ... OK
* installing the package to build vignettes
* creating vignettes ... OK
* checking for LF line-endings in source and make files and shell scripts
* checking for empty or unneeded directories
  NB: this package now depends on R (>= 3.5.0)
  WARNING: Added dependency on R >= 3.5.0 because serialized objects in
  serialize/load version 3 cannot be read in older versions of R.
  File(s) containing such objects:
    ‘brgedata/data/brge_expo.rda’ ‘brgedata/data/brge_gexp.rda’
* building ‘brgedata_1.15.2.tar.gz’