Back to Build/check report for BioC 3.14 experimental data
A[B]CDEFGHIJKLMNOPQRSTUVWXYZ

This page was generated on 2021-11-24 18:35:26 -0500 (Wed, 24 Nov 2021).

BUILD results for breastCancerUNT on nebbiolo2

To the developers/maintainers of the breastCancerUNT package:
Make sure to use the following settings in order to reproduce any error or warning you see on this page.

raw results

Package 40/408HostnameOS / ArchINSTALLBUILDCHECK
breastCancerUNT 1.32.0  (landing page)
Markus Schroeder , Benjamin Haibe-Kains
Snapshot Date: 2021-11-24 08:30:01 -0500 (Wed, 24 Nov 2021)
git_url: https://git.bioconductor.org/packages/breastCancerUNT
git_branch: RELEASE_3_14
git_last_commit: 68cc143
git_last_commit_date: 2021-10-26 11:46:23 -0500 (Tue, 26 Oct 2021)
nebbiolo2Linux (Ubuntu 20.04.3 LTS) / x86_64  OK    OK    WARNINGS  UNNEEDED, same version is already published

Summary

Package: breastCancerUNT
Version: 1.32.0
Command: /home/biocbuild/bbs-3.14-bioc/R/bin/R CMD build --keep-empty-dirs --no-resave-data breastCancerUNT
StartedAt: 2021-11-24 14:11:15 -0500 (Wed, 24 Nov 2021)
EndedAt: 2021-11-24 14:11:20 -0500 (Wed, 24 Nov 2021)
EllapsedTime: 4.4 seconds
RetCode: 0
Status:   OK  
PackageFile: breastCancerUNT_1.32.0.tar.gz
PackageFileSize: 48.32 MiB

Command output

##############################################################################
##############################################################################
###
### Running command:
###
###   /home/biocbuild/bbs-3.14-bioc/R/bin/R CMD build --keep-empty-dirs --no-resave-data breastCancerUNT
###
##############################################################################
##############################################################################


* checking for file ‘breastCancerUNT/DESCRIPTION’ ... OK
* preparing ‘breastCancerUNT’:
* checking DESCRIPTION meta-information ... OK
* checking whether ‘INDEX’ is up-to-date ... NO
* use ‘--force’ to remove the existing ‘INDEX’
* checking for LF line-endings in source and make files and shell scripts
* checking for empty or unneeded directories
* looking to see if a ‘data/datalist’ file should be added
* building ‘breastCancerUNT_1.32.0.tar.gz’