Back to Build/check report for BioC 3.14 experimental data
A[B]CDEFGHIJKLMNOPQRSTUVWXYZ

This page was generated on 2021-10-23 15:51:46 -0400 (Sat, 23 Oct 2021).

BUILD results for breastCancerTRANSBIG on nebbiolo2

To the developers/maintainers of the breastCancerTRANSBIG package:
Make sure to use the following settings in order to reproduce any error or warning you see on this page.

raw results

Package 39/408HostnameOS / ArchINSTALLBUILDCHECK
breastCancerTRANSBIG 1.31.0  (landing page)
Markus Schroeder , Benjamin Haibe-Kains
Snapshot Date: 2021-10-23 09:30:01 -0400 (Sat, 23 Oct 2021)
git_url: https://git.bioconductor.org/packages/breastCancerTRANSBIG
git_branch: master
git_last_commit: 94f7f0c
git_last_commit_date: 2021-05-19 11:31:33 -0400 (Wed, 19 May 2021)
nebbiolo2Linux (Ubuntu 20.04.2 LTS) / x86_64  OK    OK    WARNINGS  UNNEEDED, same version is already published

Summary

Package: breastCancerTRANSBIG
Version: 1.31.0
Command: /home/biocbuild/bbs-3.14-bioc/R/bin/R CMD build --keep-empty-dirs --no-resave-data breastCancerTRANSBIG
StartedAt: 2021-10-23 11:11:15 -0400 (Sat, 23 Oct 2021)
EndedAt: 2021-10-23 11:11:18 -0400 (Sat, 23 Oct 2021)
EllapsedTime: 2.9 seconds
RetCode: 0
Status:   OK  
PackageFile: breastCancerTRANSBIG_1.31.0.tar.gz
PackageFileSize: 34.48 MiB

Command output

##############################################################################
##############################################################################
###
### Running command:
###
###   /home/biocbuild/bbs-3.14-bioc/R/bin/R CMD build --keep-empty-dirs --no-resave-data breastCancerTRANSBIG
###
##############################################################################
##############################################################################


* checking for file ‘breastCancerTRANSBIG/DESCRIPTION’ ... OK
* preparing ‘breastCancerTRANSBIG’:
* checking DESCRIPTION meta-information ... OK
* checking whether ‘INDEX’ is up-to-date ... NO
* use ‘--force’ to remove the existing ‘INDEX’
* checking for LF line-endings in source and make files and shell scripts
* checking for empty or unneeded directories
* looking to see if a ‘data/datalist’ file should be added
* building ‘breastCancerTRANSBIG_1.31.0.tar.gz’