Back to Build/check report for BioC 3.14 experimental data
A[B]CDEFGHIJKLMNOPQRSTUVWXYZ

This page was generated on 2021-10-16 15:51:45 -0400 (Sat, 16 Oct 2021).

All results for package breastCancerTRANSBIG

To the developers/maintainers of the breastCancerTRANSBIG package:
Make sure to use the following settings in order to reproduce any error or warning you see on this page.

raw results

Package 39/404HostnameOS / ArchINSTALLBUILDCHECK
breastCancerTRANSBIG 1.31.0  (landing page)
Markus Schroeder , Benjamin Haibe-Kains
Snapshot Date: 2021-10-16 09:30:02 -0400 (Sat, 16 Oct 2021)
git_url: https://git.bioconductor.org/packages/breastCancerTRANSBIG
git_branch: master
git_last_commit: 94f7f0c
git_last_commit_date: 2021-05-19 11:31:33 -0400 (Wed, 19 May 2021)
nebbiolo2Linux (Ubuntu 20.04.2 LTS) / x86_64  OK    OK    WARNINGS  UNNEEDED, same version is already published