Back to Build/check report for BioC 3.14 experimental data
A[B]CDEFGHIJKLMNOPQRSTUVWXYZ

This page was generated on 2021-10-19 15:52:17 -0400 (Tue, 19 Oct 2021).

BUILD results for breastCancerNKI on nebbiolo2

To the developers/maintainers of the breastCancerNKI package:
Make sure to use the following settings in order to reproduce any error or warning you see on this page.

raw results

Package 38/404HostnameOS / ArchINSTALLBUILDCHECK
breastCancerNKI 1.31.0  (landing page)
Markus Schroeder , Benjamin Haibe-Kains
Snapshot Date: 2021-10-19 09:30:02 -0400 (Tue, 19 Oct 2021)
git_url: https://git.bioconductor.org/packages/breastCancerNKI
git_branch: master
git_last_commit: 7228bc4
git_last_commit_date: 2021-05-19 11:31:29 -0400 (Wed, 19 May 2021)
nebbiolo2Linux (Ubuntu 20.04.2 LTS) / x86_64  OK    OK    WARNINGS  UNNEEDED, same version is already published

Summary

Package: breastCancerNKI
Version: 1.31.0
Command: /home/biocbuild/bbs-3.14-bioc/R/bin/R CMD build --keep-empty-dirs --no-resave-data breastCancerNKI
StartedAt: 2021-10-19 11:11:02 -0400 (Tue, 19 Oct 2021)
EndedAt: 2021-10-19 11:11:04 -0400 (Tue, 19 Oct 2021)
EllapsedTime: 1.8 seconds
RetCode: 0
Status:   OK  
PackageFile: breastCancerNKI_1.31.0.tar.gz
PackageFileSize: 15.55 MiB

Command output

##############################################################################
##############################################################################
###
### Running command:
###
###   /home/biocbuild/bbs-3.14-bioc/R/bin/R CMD build --keep-empty-dirs --no-resave-data breastCancerNKI
###
##############################################################################
##############################################################################


* checking for file ‘breastCancerNKI/DESCRIPTION’ ... OK
* preparing ‘breastCancerNKI’:
* checking DESCRIPTION meta-information ... OK
* checking whether ‘INDEX’ is up-to-date ... NO
* use ‘--force’ to remove the existing ‘INDEX’
* checking for LF line-endings in source and make files and shell scripts
* checking for empty or unneeded directories
* looking to see if a ‘data/datalist’ file should be added
* building ‘breastCancerNKI_1.31.0.tar.gz’