Back to Build/check report for BioC 3.14 experimental data
A[B]CDEFGHIJKLMNOPQRSTUVWXYZ

This page was generated on 2021-10-21 15:52:03 -0400 (Thu, 21 Oct 2021).

BUILD results for breakpointRdata on nebbiolo2

To the developers/maintainers of the breakpointRdata package:
Make sure to use the following settings in order to reproduce any error or warning you see on this page.

raw results

Package 36/406HostnameOS / ArchINSTALLBUILDCHECK
breakpointRdata 1.11.0  (landing page)
David Porubsky
Snapshot Date: 2021-10-21 09:30:01 -0400 (Thu, 21 Oct 2021)
git_url: https://git.bioconductor.org/packages/breakpointRdata
git_branch: master
git_last_commit: 54d6bc9
git_last_commit_date: 2021-05-19 12:05:57 -0400 (Wed, 19 May 2021)
nebbiolo2Linux (Ubuntu 20.04.2 LTS) / x86_64  OK    OK    OK  UNNEEDED, same version is already published

Summary

Package: breakpointRdata
Version: 1.11.0
Command: /home/biocbuild/bbs-3.14-bioc/R/bin/R CMD build --keep-empty-dirs --no-resave-data breakpointRdata
StartedAt: 2021-10-21 11:11:02 -0400 (Thu, 21 Oct 2021)
EndedAt: 2021-10-21 11:11:16 -0400 (Thu, 21 Oct 2021)
EllapsedTime: 13.9 seconds
RetCode: 0
Status:   OK  
PackageFile: breakpointRdata_1.11.0.tar.gz
PackageFileSize: 69.47 MiB

Command output

##############################################################################
##############################################################################
###
### Running command:
###
###   /home/biocbuild/bbs-3.14-bioc/R/bin/R CMD build --keep-empty-dirs --no-resave-data breakpointRdata
###
##############################################################################
##############################################################################


* checking for file ‘breakpointRdata/DESCRIPTION’ ... OK
* preparing ‘breakpointRdata’:
* checking DESCRIPTION meta-information ... OK
* installing the package to build vignettes
* creating vignettes ... OK
* checking for LF line-endings in source and make files and shell scripts
* checking for empty or unneeded directories
* building ‘breakpointRdata_1.11.0.tar.gz’