Back to Build/check report for BioC 3.14 experimental data
A[B]CDEFGHIJKLMNOPQRSTUVWXYZ

This page was generated on 2021-10-19 15:52:17 -0400 (Tue, 19 Oct 2021).

All results for package breakpointRdata

To the developers/maintainers of the breakpointRdata package:
Make sure to use the following settings in order to reproduce any error or warning you see on this page.

raw results

Package 36/404HostnameOS / ArchINSTALLBUILDCHECK
breakpointRdata 1.11.0  (landing page)
David Porubsky
Snapshot Date: 2021-10-19 09:30:02 -0400 (Tue, 19 Oct 2021)
git_url: https://git.bioconductor.org/packages/breakpointRdata
git_branch: master
git_last_commit: 54d6bc9
git_last_commit_date: 2021-05-19 12:05:57 -0400 (Wed, 19 May 2021)
nebbiolo2Linux (Ubuntu 20.04.2 LTS) / x86_64  OK    OK    OK  UNNEEDED, same version is already published