Back to Build/check report for BioC 3.14 experimental data
A[B]CDEFGHIJKLMNOPQRSTUVWXYZ

This page was generated on 2021-10-26 15:52:18 -0400 (Tue, 26 Oct 2021).

INSTALL results for brainImageRdata on nebbiolo2

To the developers/maintainers of the brainImageRdata package:
Make sure to use the following settings in order to reproduce any error or warning you see on this page.

raw results

Package 35/408HostnameOS / ArchINSTALLBUILDCHECK
brainImageRdata 1.11.1  (landing page)
Sara Linker
Snapshot Date: 2021-10-26 09:30:02 -0400 (Tue, 26 Oct 2021)
git_url: https://git.bioconductor.org/packages/brainImageRdata
git_branch: master
git_last_commit: 0f58353
git_last_commit_date: 2021-08-11 10:15:01 -0400 (Wed, 11 Aug 2021)
nebbiolo2Linux (Ubuntu 20.04.2 LTS) / x86_64  OK    OK    WARNINGS  UNNEEDED, same version is already published

Summary

Package: brainImageRdata
Version: 1.11.1
Command: /home/biocbuild/bbs-3.14-bioc/R/bin/R CMD INSTALL brainImageRdata
StartedAt: 2021-10-26 11:04:59 -0400 (Tue, 26 Oct 2021)
EndedAt: 2021-10-26 11:05:11 -0400 (Tue, 26 Oct 2021)
EllapsedTime: 11.7 seconds
RetCode: 0
Status:   OK  

Command output

##############################################################################
##############################################################################
###
### Running command:
###
###   /home/biocbuild/bbs-3.14-bioc/R/bin/R CMD INSTALL brainImageRdata
###
##############################################################################
##############################################################################


* installing to library ‘/home/biocbuild/bbs-3.14-bioc/R/library’
* installing *source* package ‘brainImageRdata’ ...
** using staged installation
** R
** inst
** byte-compile and prepare package for lazy loading
** help
*** installing help indices
** building package indices
** installing vignettes
** testing if installed package can be loaded from temporary location
Warning: Package 'brainImageRdata' is deprecated and will be removed from
  Bioconductor version 3.15
** testing if installed package can be loaded from final location
Warning: Package 'brainImageRdata' is deprecated and will be removed from
  Bioconductor version 3.15
** testing if installed package keeps a record of temporary installation path
* DONE (brainImageRdata)