Back to Build/check report for BioC 3.14 experimental data
A[B]CDEFGHIJKLMNOPQRSTUVWXYZ

This page was generated on 2021-10-23 15:51:46 -0400 (Sat, 23 Oct 2021).

INSTALL results for benchmarkfdrData2019 on nebbiolo2

To the developers/maintainers of the benchmarkfdrData2019 package:
Make sure to use the following settings in order to reproduce any error or warning you see on this page.

raw results

Package 26/408HostnameOS / ArchINSTALLBUILDCHECK
benchmarkfdrData2019 1.7.1  (landing page)
Stephanie Hicks
Snapshot Date: 2021-10-23 09:30:01 -0400 (Sat, 23 Oct 2021)
git_url: https://git.bioconductor.org/packages/benchmarkfdrData2019
git_branch: master
git_last_commit: 4c4b21c
git_last_commit_date: 2021-06-18 13:18:54 -0400 (Fri, 18 Jun 2021)
nebbiolo2Linux (Ubuntu 20.04.2 LTS) / x86_64  OK    OK    OK  UNNEEDED, same version is already published

Summary

Package: benchmarkfdrData2019
Version: 1.7.1
Command: /home/biocbuild/bbs-3.14-bioc/R/bin/R CMD INSTALL benchmarkfdrData2019
StartedAt: 2021-10-23 11:03:19 -0400 (Sat, 23 Oct 2021)
EndedAt: 2021-10-23 11:03:50 -0400 (Sat, 23 Oct 2021)
EllapsedTime: 31.5 seconds
RetCode: 0
Status:   OK  

Command output

##############################################################################
##############################################################################
###
### Running command:
###
###   /home/biocbuild/bbs-3.14-bioc/R/bin/R CMD INSTALL benchmarkfdrData2019
###
##############################################################################
##############################################################################


* installing to library ‘/home/biocbuild/bbs-3.14-bioc/R/library’
* installing *source* package ‘benchmarkfdrData2019’ ...
** using staged installation
** R
** inst
** byte-compile and prepare package for lazy loading
** help
*** installing help indices
** building package indices
** installing vignettes
** testing if installed package can be loaded from temporary location
snapshotDate(): 2021-10-18
** testing if installed package can be loaded from final location
snapshotDate(): 2021-10-18
** testing if installed package keeps a record of temporary installation path
* DONE (benchmarkfdrData2019)