Back to Build/check report for BioC 3.14 experimental data
A[B]CDEFGHIJKLMNOPQRSTUVWXYZ

This page was generated on 2021-10-16 15:51:45 -0400 (Sat, 16 Oct 2021).

CHECK results for benchmarkfdrData2019 on nebbiolo2

To the developers/maintainers of the benchmarkfdrData2019 package:
Make sure to use the following settings in order to reproduce any error or warning you see on this page.

raw results

Package 26/404HostnameOS / ArchINSTALLBUILDCHECK
benchmarkfdrData2019 1.7.1  (landing page)
Stephanie Hicks
Snapshot Date: 2021-10-16 09:30:02 -0400 (Sat, 16 Oct 2021)
git_url: https://git.bioconductor.org/packages/benchmarkfdrData2019
git_branch: master
git_last_commit: 4c4b21c
git_last_commit_date: 2021-06-18 13:18:54 -0400 (Fri, 18 Jun 2021)
nebbiolo2Linux (Ubuntu 20.04.2 LTS) / x86_64  OK    OK    OK  UNNEEDED, same version is already published

Summary

Package: benchmarkfdrData2019
Version: 1.7.1
Command: /home/biocbuild/bbs-3.14-bioc/R/bin/R CMD check --install=check:benchmarkfdrData2019.install-out.txt --library=/home/biocbuild/bbs-3.14-bioc/R/library --no-vignettes --timings benchmarkfdrData2019_1.7.1.tar.gz
StartedAt: 2021-10-16 12:05:20 -0400 (Sat, 16 Oct 2021)
EndedAt: 2021-10-16 12:09:05 -0400 (Sat, 16 Oct 2021)
EllapsedTime: 224.8 seconds
RetCode: 0
Status:   OK  
CheckDir: benchmarkfdrData2019.Rcheck
Warnings: 0

Command output

##############################################################################
##############################################################################
###
### Running command:
###
###   /home/biocbuild/bbs-3.14-bioc/R/bin/R CMD check --install=check:benchmarkfdrData2019.install-out.txt --library=/home/biocbuild/bbs-3.14-bioc/R/library --no-vignettes --timings benchmarkfdrData2019_1.7.1.tar.gz
###
##############################################################################
##############################################################################


* using log directory ‘/home/biocbuild/bbs-3.14-data-experiment/meat/benchmarkfdrData2019.Rcheck’
* using R version 4.1.1 (2021-08-10)
* using platform: x86_64-pc-linux-gnu (64-bit)
* using session charset: UTF-8
* using option ‘--no-vignettes’
* checking for file ‘benchmarkfdrData2019/DESCRIPTION’ ... OK
* this is package ‘benchmarkfdrData2019’ version ‘1.7.1’
* package encoding: UTF-8
* checking package namespace information ... OK
* checking package dependencies ... OK
* checking if this is a source package ... OK
* checking if there is a namespace ... OK
* checking for hidden files and directories ... OK
* checking for portable file names ... NOTE
Found the following non-portable file paths:
  benchmarkfdrData2019/inst/scripts/make-data/Simulations/simulations-varyinginformativeness-discrete.Rmd
  benchmarkfdrData2019/inst/scripts/make-data/Simulations/simulations-varyinginformativeness-smooth.Rmd
  benchmarkfdrData2019/inst/scripts/make-data/YeastInSilico/yeast-simulation-bimodalalternative-highpi0.Rmd

Tarballs are only required to store paths of up to 100 bytes and cannot
store those of more than 256 bytes, with restrictions including to 100
bytes for the final component.
See section ‘Package structure’ in the ‘Writing R Extensions’ manual.
* checking for sufficient/correct file permissions ... OK
* checking whether package ‘benchmarkfdrData2019’ can be installed ... OK
* checking installed package size ... OK
* checking package directory ... OK
* checking ‘build’ directory ... OK
* checking DESCRIPTION meta-information ... OK
* checking top-level files ... OK
* checking for left-over files ... OK
* checking index information ... OK
* checking package subdirectories ... OK
* checking R files for non-ASCII characters ... OK
* checking R files for syntax errors ... OK
* checking whether the package can be loaded ... OK
* checking whether the package can be loaded with stated dependencies ... OK
* checking whether the package can be unloaded cleanly ... OK
* checking whether the namespace can be loaded with stated dependencies ... OK
* checking whether the namespace can be unloaded cleanly ... OK
* checking dependencies in R code ... NOTE
Package in Depends field not imported from: ‘SummarizedExperiment’
  These packages need to be imported from (in the NAMESPACE file)
  for when this namespace is loaded but not attached.
* checking S3 generic/method consistency ... OK
* checking replacement functions ... OK
* checking foreign function calls ... OK
* checking R code for possible problems ... OK
* checking Rd files ... OK
* checking Rd metadata ... OK
* checking Rd cross-references ... OK
* checking for missing documentation entries ... OK
* checking for code/documentation mismatches ... OK
* checking Rd \usage sections ... OK
* checking Rd contents ... OK
* checking for unstated dependencies in examples ... OK
* checking files in ‘vignettes’ ... OK
* checking examples ... OK
* checking for unstated dependencies in vignettes ... OK
* checking package vignettes in ‘inst/doc’ ... OK
* checking running R code from vignettes ... SKIPPED
* checking re-building of vignette outputs ... SKIPPED
* checking PDF version of manual ... OK
* DONE

Status: 2 NOTEs
See
  ‘/home/biocbuild/bbs-3.14-data-experiment/meat/benchmarkfdrData2019.Rcheck/00check.log’
for details.



Installation output

benchmarkfdrData2019.Rcheck/00install.out

##############################################################################
##############################################################################
###
### Running command:
###
###   /home/biocbuild/bbs-3.14-bioc/R/bin/R CMD INSTALL benchmarkfdrData2019
###
##############################################################################
##############################################################################


* installing to library ‘/home/biocbuild/bbs-3.14-bioc/R/library’
* installing *source* package ‘benchmarkfdrData2019’ ...
** using staged installation
** R
** inst
** byte-compile and prepare package for lazy loading
** help
*** installing help indices
** building package indices
** installing vignettes
** testing if installed package can be loaded from temporary location
snapshotDate(): 2021-10-15
** testing if installed package can be loaded from final location
snapshotDate(): 2021-10-15
** testing if installed package keeps a record of temporary installation path
* DONE (benchmarkfdrData2019)

Tests output


Example timings

benchmarkfdrData2019.Rcheck/benchmarkfdrData2019-Ex.timings

nameusersystemelapsed
chipseq-cbp0.0260.0000.026
chipseq-h3k4me30.0210.0000.021
gsa-human0.0220.0000.021
gsa-mouse0.0210.0000.021
gwas-bmi0.0210.0000.022
microbiome-baxter0.0200.0000.021
microbiome-enigma0.0210.0000.021
microbiome-goodrich0.0210.0000.021
microbiome-papa0.0210.0000.022
microbiome-schubert0.030.000.03
polyester-insilico0.0210.0000.020
rnaseq-brain0.020.000.02
rnaseq-mir200c0.0200.0000.021
scrnaseq-human0.020.000.02
scrnaseq-mouse0.0210.0000.020
sims-informative-cosine0.0200.0000.021
sims-informative-cubic0.0210.0000.021
sims-informative-sine0.0170.0040.021
sims-informative-step0.0200.0000.021
sims-null0.0200.0000.021
sims-uasettings-250.0210.0000.022
sims-uasettings-t0.0340.0000.034
sims-uasettings0.0170.0040.022
sims-varyinginfo-discrete0.0210.0000.021
sims-varyinginfo-smooth0.0210.0000.021
sims-varyingntests0.0210.0000.021
sims-varyingpi0-t0.0200.0000.021
sims-varyingpi00.0200.0000.021
yeast-insilico0.0220.0000.021