Back to Build/check report for BioC 3.14 experimental data
A[B]CDEFGHIJKLMNOPQRSTUVWXYZ

This page was generated on 2021-10-23 15:51:46 -0400 (Sat, 23 Oct 2021).

All results for package benchmarkfdrData2019

To the developers/maintainers of the benchmarkfdrData2019 package:
Make sure to use the following settings in order to reproduce any error or warning you see on this page.

raw results

Package 26/408HostnameOS / ArchINSTALLBUILDCHECK
benchmarkfdrData2019 1.7.1  (landing page)
Stephanie Hicks
Snapshot Date: 2021-10-23 09:30:01 -0400 (Sat, 23 Oct 2021)
git_url: https://git.bioconductor.org/packages/benchmarkfdrData2019
git_branch: master
git_last_commit: 4c4b21c
git_last_commit_date: 2021-06-18 13:18:54 -0400 (Fri, 18 Jun 2021)
nebbiolo2Linux (Ubuntu 20.04.2 LTS) / x86_64  OK    OK    OK  UNNEEDED, same version is already published