Back to Build/check report for BioC 3.14 experimental data
A[B]CDEFGHIJKLMNOPQRSTUVWXYZ

This page was generated on 2021-10-16 15:51:45 -0400 (Sat, 16 Oct 2021).

BUILD results for beadarrayExampleData on nebbiolo2

To the developers/maintainers of the beadarrayExampleData package:
Make sure to use the following settings in order to reproduce any error or warning you see on this page.

raw results

Package 23/404HostnameOS / ArchINSTALLBUILDCHECK
beadarrayExampleData 1.31.0  (landing page)
Mark Dunning
Snapshot Date: 2021-10-16 09:30:02 -0400 (Sat, 16 Oct 2021)
git_url: https://git.bioconductor.org/packages/beadarrayExampleData
git_branch: master
git_last_commit: 8a8bd46
git_last_commit_date: 2021-05-19 11:32:46 -0400 (Wed, 19 May 2021)
nebbiolo2Linux (Ubuntu 20.04.2 LTS) / x86_64  OK    OK    OK  UNNEEDED, same version is already published

Summary

Package: beadarrayExampleData
Version: 1.31.0
Command: /home/biocbuild/bbs-3.14-bioc/R/bin/R CMD build --keep-empty-dirs --no-resave-data beadarrayExampleData
StartedAt: 2021-10-16 11:10:11 -0400 (Sat, 16 Oct 2021)
EndedAt: 2021-10-16 11:10:31 -0400 (Sat, 16 Oct 2021)
EllapsedTime: 20.1 seconds
RetCode: 0
Status:   OK  
PackageFile: beadarrayExampleData_1.31.0.tar.gz
PackageFileSize: 29.89 MiB

Command output

##############################################################################
##############################################################################
###
### Running command:
###
###   /home/biocbuild/bbs-3.14-bioc/R/bin/R CMD build --keep-empty-dirs --no-resave-data beadarrayExampleData
###
##############################################################################
##############################################################################


* checking for file ‘beadarrayExampleData/DESCRIPTION’ ... OK
* preparing ‘beadarrayExampleData’:
* checking DESCRIPTION meta-information ... OK
* installing the package to build vignettes
* creating vignettes ... OK
* checking for LF line-endings in source and make files and shell scripts
* checking for empty or unneeded directories
* looking to see if a ‘data/datalist’ file should be added
* building ‘beadarrayExampleData_1.31.0.tar.gz’