Back to Build/check report for BioC 3.14 experimental data
A[B]CDEFGHIJKLMNOPQRSTUVWXYZ

This page was generated on 2021-11-24 18:35:26 -0500 (Wed, 24 Nov 2021).

BUILD results for bcellViper on nebbiolo2

To the developers/maintainers of the bcellViper package:
Make sure to use the following settings in order to reproduce any error or warning you see on this page.

raw results

Package 22/408HostnameOS / ArchINSTALLBUILDCHECK
bcellViper 1.30.0  (landing page)
Mariano Javier Alvarez
Snapshot Date: 2021-11-24 08:30:01 -0500 (Wed, 24 Nov 2021)
git_url: https://git.bioconductor.org/packages/bcellViper
git_branch: RELEASE_3_14
git_last_commit: 448a219
git_last_commit_date: 2021-10-26 12:08:40 -0500 (Tue, 26 Oct 2021)
nebbiolo2Linux (Ubuntu 20.04.3 LTS) / x86_64  OK    OK    OK  UNNEEDED, same version is already published

Summary

Package: bcellViper
Version: 1.30.0
Command: /home/biocbuild/bbs-3.14-bioc/R/bin/R CMD build --keep-empty-dirs --no-resave-data bcellViper
StartedAt: 2021-11-24 14:10:29 -0500 (Wed, 24 Nov 2021)
EndedAt: 2021-11-24 14:10:34 -0500 (Wed, 24 Nov 2021)
EllapsedTime: 4.7 seconds
RetCode: 0
Status:   OK  
PackageFile: bcellViper_1.30.0.tar.gz
PackageFileSize: 11.28 MiB

Command output

##############################################################################
##############################################################################
###
### Running command:
###
###   /home/biocbuild/bbs-3.14-bioc/R/bin/R CMD build --keep-empty-dirs --no-resave-data bcellViper
###
##############################################################################
##############################################################################


* checking for file ‘bcellViper/DESCRIPTION’ ... OK
* preparing ‘bcellViper’:
* checking DESCRIPTION meta-information ... OK
* installing the package to build vignettes
* creating vignettes ... OK
* checking for LF line-endings in source and make files and shell scripts
* checking for empty or unneeded directories
* looking to see if a ‘data/datalist’ file should be added
* building ‘bcellViper_1.30.0.tar.gz’