Back to Build/check report for BioC 3.14 experimental data
[A]BCDEFGHIJKLMNOPQRSTUVWXYZ

This page was generated on 2021-11-24 18:35:26 -0500 (Wed, 24 Nov 2021).

BUILD results for antiProfilesData on nebbiolo2

To the developers/maintainers of the antiProfilesData package:
Make sure to use the following settings in order to reproduce any error or warning you see on this page.

raw results

Package 16/408HostnameOS / ArchINSTALLBUILDCHECK
antiProfilesData 1.30.0  (landing page)
Hector Corrada Bravo
Snapshot Date: 2021-11-24 08:30:01 -0500 (Wed, 24 Nov 2021)
git_url: https://git.bioconductor.org/packages/antiProfilesData
git_branch: RELEASE_3_14
git_last_commit: 2335eb8
git_last_commit_date: 2021-10-26 11:59:32 -0500 (Tue, 26 Oct 2021)
nebbiolo2Linux (Ubuntu 20.04.3 LTS) / x86_64  OK    OK    OK  UNNEEDED, same version is already published

Summary

Package: antiProfilesData
Version: 1.30.0
Command: /home/biocbuild/bbs-3.14-bioc/R/bin/R CMD build --keep-empty-dirs --no-resave-data antiProfilesData
StartedAt: 2021-11-24 14:10:20 -0500 (Wed, 24 Nov 2021)
EndedAt: 2021-11-24 14:10:21 -0500 (Wed, 24 Nov 2021)
EllapsedTime: 0.4 seconds
RetCode: 0
Status:   OK  
PackageFile: antiProfilesData_1.30.0.tar.gz
PackageFileSize: 2.714 MiB

Command output

##############################################################################
##############################################################################
###
### Running command:
###
###   /home/biocbuild/bbs-3.14-bioc/R/bin/R CMD build --keep-empty-dirs --no-resave-data antiProfilesData
###
##############################################################################
##############################################################################


* checking for file ‘antiProfilesData/DESCRIPTION’ ... OK
* preparing ‘antiProfilesData’:
* checking DESCRIPTION meta-information ... OK
* checking for LF line-endings in source and make files and shell scripts
* checking for empty or unneeded directories
* building ‘antiProfilesData_1.30.0.tar.gz’